BEGIN:VCALENDAR
VERSION:2.0
PRODID:-//Magnetic South Brewery - ECPv6.15.18//NONSGML v1.0//EN
CALSCALE:GREGORIAN
METHOD:PUBLISH
X-ORIGINAL-URL:https://magneticsouthbeer.com
X-WR-CALDESC:Events for Magnetic South Brewery
REFRESH-INTERVAL;VALUE=DURATION:PT1H
X-Robots-Tag:noindex
X-PUBLISHED-TTL:PT1H
BEGIN:VTIMEZONE
TZID:America/New_York
BEGIN:DAYLIGHT
TZOFFSETFROM:-0500
TZOFFSETTO:-0400
TZNAME:EDT
DTSTART:20220313T070000
END:DAYLIGHT
BEGIN:STANDARD
TZOFFSETFROM:-0400
TZOFFSETTO:-0500
TZNAME:EST
DTSTART:20221106T060000
END:STANDARD
BEGIN:DAYLIGHT
TZOFFSETFROM:-0500
TZOFFSETTO:-0400
TZNAME:EDT
DTSTART:20230312T070000
END:DAYLIGHT
BEGIN:STANDARD
TZOFFSETFROM:-0400
TZOFFSETTO:-0500
TZNAME:EST
DTSTART:20231105T060000
END:STANDARD
BEGIN:DAYLIGHT
TZOFFSETFROM:-0500
TZOFFSETTO:-0400
TZNAME:EDT
DTSTART:20240310T070000
END:DAYLIGHT
BEGIN:STANDARD
TZOFFSETFROM:-0400
TZOFFSETTO:-0500
TZNAME:EST
DTSTART:20241103T060000
END:STANDARD
END:VTIMEZONE
BEGIN:VEVENT
DTSTART;TZID=America/New_York:20230504T190000
DTEND;TZID=America/New_York:20230504T210000
DTSTAMP:20260426T002933
CREATED:20230331T174902Z
LAST-MODIFIED:20230331T174902Z
UID:1227-1683226800-1683234000@magneticsouthbeer.com
SUMMARY:Paint Your Pet-Pop Art Style w/Errant Artistry
DESCRIPTION:Errant Artistry will be at Magnetic South Brewery\, located at: 516 N. Main St. Anderson\, SC 29621; On Thursday. May 4th\, to paint “Paint Your Pet-Pop Art Style”. We will start promptly at 7:00pm and end at 9:00pm. This is a 2-Hour painting class that is led in a step-by-step manner to ensure all levels of artists leave with a masterpiece. All materials are provided for you\, \nWhat you need to do is Register & Pay ONLINE\, then Send a picture of your Pet to Andrea via email: ErrantArtistry@gmail.com\, include your name and date/location of the event you signed up for. \nThen show up and have a great time! Each seat is $40.00 and must be paid in advance by paying online. (You do not need a PayPal Account to pay online\, simply select the “Check out as Guest”\, option). *Beverages\, Food etc. is sold separately from Errant Artistry* *Errant Artistry requires a minimum of 7 participating painters for the event to continue. If there is not enough to hold the class\, the class will be cancelled and the customers will be notified and a refund will be issued.*No refunds or credit to another class will be issued for personal cancelations\, if Errant Artistry has not been notified at least 48 hours prior to date of class\, no exceptions. \n* *If you have any questions\, please contact Andrea directly at 864-504-9957.
URL:https://magneticsouthbeer.com/event/paint-your-pet-pop-art-style-w-errant-artistry/
LOCATION:Magnetic South Anderson\, 516 North Main Street\, Anderson\, SC\, United States
ATTACH;FMTTYPE=image/jpeg:https://magneticsouthbeer.com/wp-content/uploads/2023/03/335520077_1348140969314834_1244887890319056645_n.jpeg
END:VEVENT
BEGIN:VEVENT
DTSTART;TZID=America/New_York:20230504T190000
DTEND;TZID=America/New_York:20230504T210000
DTSTAMP:20260426T002933
CREATED:20230501T222522Z
LAST-MODIFIED:20230501T222522Z
UID:1302-1683226800-1683234000@magneticsouthbeer.com
SUMMARY:May the Fourth Be with You!
DESCRIPTION:May the force be with you! Come join us as our favorite trivia goddess MiMi puts together a killer star wars themed trivia. Registration starts at 7pm first round questions at 7:30.
URL:https://magneticsouthbeer.com/event/may-the-fourth-be-with-you/
LOCATION:Magnetic South Greenville\, 701 Easley Bridge Rd\, Greenville\, SC\, 29611\, United States
ATTACH;FMTTYPE=image/jpeg:https://magneticsouthbeer.com/wp-content/uploads/2023/05/343407820_948778469771737_8871423176647399207_n.jpeg
END:VEVENT
END:VCALENDAR