BEGIN:VCALENDAR
VERSION:2.0
PRODID:-//Magnetic South Brewery - ECPv6.15.18//NONSGML v1.0//EN
CALSCALE:GREGORIAN
METHOD:PUBLISH
X-ORIGINAL-URL:https://magneticsouthbeer.com
X-WR-CALDESC:Events for Magnetic South Brewery
REFRESH-INTERVAL;VALUE=DURATION:PT1H
X-Robots-Tag:noindex
X-PUBLISHED-TTL:PT1H
BEGIN:VTIMEZONE
TZID:America/New_York
BEGIN:DAYLIGHT
TZOFFSETFROM:-0500
TZOFFSETTO:-0400
TZNAME:EDT
DTSTART:20220313T070000
END:DAYLIGHT
BEGIN:STANDARD
TZOFFSETFROM:-0400
TZOFFSETTO:-0500
TZNAME:EST
DTSTART:20221106T060000
END:STANDARD
BEGIN:DAYLIGHT
TZOFFSETFROM:-0500
TZOFFSETTO:-0400
TZNAME:EDT
DTSTART:20230312T070000
END:DAYLIGHT
BEGIN:STANDARD
TZOFFSETFROM:-0400
TZOFFSETTO:-0500
TZNAME:EST
DTSTART:20231105T060000
END:STANDARD
BEGIN:DAYLIGHT
TZOFFSETFROM:-0500
TZOFFSETTO:-0400
TZNAME:EDT
DTSTART:20240310T070000
END:DAYLIGHT
BEGIN:STANDARD
TZOFFSETFROM:-0400
TZOFFSETTO:-0500
TZNAME:EST
DTSTART:20241103T060000
END:STANDARD
END:VTIMEZONE
BEGIN:VEVENT
DTSTART;TZID=America/New_York:20230524T180000
DTEND;TZID=America/New_York:20230524T203000
DTSTAMP:20260426T002931
CREATED:20230516T191401Z
LAST-MODIFIED:20230516T191401Z
UID:1355-1684951200-1684960200@magneticsouthbeer.com
SUMMARY:Trivia Night
DESCRIPTION:We are launching weekly trivia at our Greenville location. Every Wednesday MiMi will be hosting trivia. Follow our page for updated info on what genre the trivia will be. Signup starts at 6\, first round at 6:30. Prizes for 1st\, 2nd and 3rd.
URL:https://magneticsouthbeer.com/event/trivia-night-2/
LOCATION:Magnetic South Greenville\, 701 Easley Bridge Rd\, Greenville\, SC\, 29611\, United States
ATTACH;FMTTYPE=image/jpeg:https://magneticsouthbeer.com/wp-content/uploads/2023/05/trivia-mimi-16-9.jpg
END:VEVENT
END:VCALENDAR