BEGIN:VCALENDAR
VERSION:2.0
PRODID:-//Magnetic South Brewery - ECPv6.15.18//NONSGML v1.0//EN
CALSCALE:GREGORIAN
METHOD:PUBLISH
X-ORIGINAL-URL:https://magneticsouthbeer.com
X-WR-CALDESC:Events for Magnetic South Brewery
REFRESH-INTERVAL;VALUE=DURATION:PT1H
X-Robots-Tag:noindex
X-PUBLISHED-TTL:PT1H
BEGIN:VTIMEZONE
TZID:America/New_York
BEGIN:DAYLIGHT
TZOFFSETFROM:-0500
TZOFFSETTO:-0400
TZNAME:EDT
DTSTART:20220313T070000
END:DAYLIGHT
BEGIN:STANDARD
TZOFFSETFROM:-0400
TZOFFSETTO:-0500
TZNAME:EST
DTSTART:20221106T060000
END:STANDARD
BEGIN:DAYLIGHT
TZOFFSETFROM:-0500
TZOFFSETTO:-0400
TZNAME:EDT
DTSTART:20230312T070000
END:DAYLIGHT
BEGIN:STANDARD
TZOFFSETFROM:-0400
TZOFFSETTO:-0500
TZNAME:EST
DTSTART:20231105T060000
END:STANDARD
BEGIN:DAYLIGHT
TZOFFSETFROM:-0500
TZOFFSETTO:-0400
TZNAME:EDT
DTSTART:20240310T070000
END:DAYLIGHT
BEGIN:STANDARD
TZOFFSETFROM:-0400
TZOFFSETTO:-0500
TZNAME:EST
DTSTART:20241103T060000
END:STANDARD
END:VTIMEZONE
BEGIN:VEVENT
DTSTART;TZID=America/New_York:20230609T180000
DTEND;TZID=America/New_York:20230609T213000
DTSTAMP:20260425T230431
CREATED:20230607T160034Z
LAST-MODIFIED:20230607T160034Z
UID:1392-1686333600-1686346200@magneticsouthbeer.com
SUMMARY:Secondhand News Live Music
DESCRIPTION:
URL:https://magneticsouthbeer.com/event/secondhand-news-live-music/
LOCATION:Magnetic South Anderson\, 516 North Main Street\, Anderson\, SC\, United States
ATTACH;FMTTYPE=image/jpeg:https://magneticsouthbeer.com/wp-content/uploads/2023/04/live-music-event-graphic.jpg
END:VEVENT
BEGIN:VEVENT
DTSTART;TZID=America/New_York:20230609T190000
DTEND;TZID=America/New_York:20230609T203000
DTSTAMP:20260425T230431
CREATED:20230607T160414Z
LAST-MODIFIED:20230607T160414Z
UID:1394-1686337200-1686342600@magneticsouthbeer.com
SUMMARY:Trial by Fire Live Music
DESCRIPTION:
URL:https://magneticsouthbeer.com/event/trial-by-fire-live-music/
LOCATION:The Foundry\, 701 Easley Bridge Rd Unit 6030\, Greenville\, SC\, 29611\, United States
ATTACH;FMTTYPE=image/png:https://magneticsouthbeer.com/wp-content/uploads/2023/06/trial-by-fire-1024x576-1.png
END:VEVENT
END:VCALENDAR