BEGIN:VCALENDAR
VERSION:2.0
PRODID:-//Magnetic South Brewery - ECPv6.15.18//NONSGML v1.0//EN
CALSCALE:GREGORIAN
METHOD:PUBLISH
X-ORIGINAL-URL:https://magneticsouthbeer.com
X-WR-CALDESC:Events for Magnetic South Brewery
REFRESH-INTERVAL;VALUE=DURATION:PT1H
X-Robots-Tag:noindex
X-PUBLISHED-TTL:PT1H
BEGIN:VTIMEZONE
TZID:America/New_York
BEGIN:DAYLIGHT
TZOFFSETFROM:-0500
TZOFFSETTO:-0400
TZNAME:EDT
DTSTART:20220313T070000
END:DAYLIGHT
BEGIN:STANDARD
TZOFFSETFROM:-0400
TZOFFSETTO:-0500
TZNAME:EST
DTSTART:20221106T060000
END:STANDARD
BEGIN:DAYLIGHT
TZOFFSETFROM:-0500
TZOFFSETTO:-0400
TZNAME:EDT
DTSTART:20230312T070000
END:DAYLIGHT
BEGIN:STANDARD
TZOFFSETFROM:-0400
TZOFFSETTO:-0500
TZNAME:EST
DTSTART:20231105T060000
END:STANDARD
BEGIN:DAYLIGHT
TZOFFSETFROM:-0500
TZOFFSETTO:-0400
TZNAME:EDT
DTSTART:20240310T070000
END:DAYLIGHT
BEGIN:STANDARD
TZOFFSETFROM:-0400
TZOFFSETTO:-0500
TZNAME:EST
DTSTART:20241103T060000
END:STANDARD
END:VTIMEZONE
BEGIN:VEVENT
DTSTART;TZID=America/New_York:20230611T180000
DTEND;TZID=America/New_York:20230611T193000
DTSTAMP:20260425T230409
CREATED:20230501T223607Z
LAST-MODIFIED:20230607T161602Z
UID:1305-1686506400-1686511800@magneticsouthbeer.com
SUMMARY:Beginner Calligraphy at Magnetic South Brewery
DESCRIPTION:Join Sip & Script® for a Night of Learning Calligraphy! \nJoin us at Magnetic South Brewery in Greenville\, SC for pretty lettering! Whether you’re a stationery nerd\, DIY Bride-to-be\, or just a crafty individual\, in this workshop you’ll be learning an introduction to modern calligraphy with a pointed dip pen and ink. We will cover all the basics and get you ready to add those special lettered details to your snail mail\, wedding paper goods\, home decor and more! The perfect crafty night out! \nClass includes 1.5 hours of instruction and demonstration\, our beginner’s calligraphy kit (two nibs\, black ink pot\, 2 letter guides\, tracing paper and straight pen holder)\, and all materials to write on. Everything is yours to keep at the end of the workshop!
URL:https://magneticsouthbeer.com/event/beginner-calligraphy-at-magnetic-south-brewery/
LOCATION:Magnetic South Anderson\, 516 North Main Street\, Anderson\, SC\, United States
ATTACH;FMTTYPE=image/jpeg:https://magneticsouthbeer.com/wp-content/uploads/2023/05/342507951_710472854169040_1309594881923396118_n.jpeg
END:VEVENT
END:VCALENDAR