BEGIN:VCALENDAR
VERSION:2.0
PRODID:-//Magnetic South Brewery - ECPv6.15.18//NONSGML v1.0//EN
CALSCALE:GREGORIAN
METHOD:PUBLISH
X-WR-CALNAME:Magnetic South Brewery
X-ORIGINAL-URL:https://magneticsouthbeer.com
X-WR-CALDESC:Events for Magnetic South Brewery
REFRESH-INTERVAL;VALUE=DURATION:PT1H
X-Robots-Tag:noindex
X-PUBLISHED-TTL:PT1H
BEGIN:VTIMEZONE
TZID:America/New_York
BEGIN:DAYLIGHT
TZOFFSETFROM:-0500
TZOFFSETTO:-0400
TZNAME:EDT
DTSTART:20230312T070000
END:DAYLIGHT
BEGIN:STANDARD
TZOFFSETFROM:-0400
TZOFFSETTO:-0500
TZNAME:EST
DTSTART:20231105T060000
END:STANDARD
BEGIN:DAYLIGHT
TZOFFSETFROM:-0500
TZOFFSETTO:-0400
TZNAME:EDT
DTSTART:20240310T070000
END:DAYLIGHT
BEGIN:STANDARD
TZOFFSETFROM:-0400
TZOFFSETTO:-0500
TZNAME:EST
DTSTART:20241103T060000
END:STANDARD
BEGIN:DAYLIGHT
TZOFFSETFROM:-0500
TZOFFSETTO:-0400
TZNAME:EDT
DTSTART:20250309T070000
END:DAYLIGHT
BEGIN:STANDARD
TZOFFSETFROM:-0400
TZOFFSETTO:-0500
TZNAME:EST
DTSTART:20251102T060000
END:STANDARD
END:VTIMEZONE
BEGIN:VEVENT
DTSTART;TZID=America/New_York:20240525T130000
DTEND;TZID=America/New_York:20240525T150000
DTSTAMP:20260425T150452
CREATED:20240402T143034Z
LAST-MODIFIED:20240402T143034Z
UID:2021-1716642000-1716649200@magneticsouthbeer.com
SUMMARY:Boozy Book Fair at Magnetic South Greenville on 5/25/24
DESCRIPTION:There was nothing like the elementary school book fair – the smell of new books in the air\, the rush of racing your friends to find the next installment of your favorite series\, and\, if you were lucky\, the crinkle of money from Mom in your pocket. \nLife felt so much easier back then\, didn’t it? Don’t you find yourself wishing from time to time that you could just go back? \nThis May\, you can – but we’re doing it grown-up style. \nDon’t miss our first ever SATURDAY Boozy Book Fair at Magnetic South Brewery (701 Easley Bridge Rd\, Greenville\, SC 29611) on Saturday\, May 25th from 1-3pm! \nBook categories will include: \n-Fun & Games \n-Adulting \n-Geeks and Gamers \n-Myths and Fairy Tales \n-Gothic and Ghastly \n-Meet Cute Moments \n-Romantasy \n-Read the Rainbow \n-When Nature Calls \n-Bookclub Picks \n-Young at Heart \n-Truth ‘R Us \n-Criminally Good Reads \n…and much much more! \nThis event is FREE and open to the public\, so bring your friends! Be sure to RSVP so we have the booze + books ready – we can’t wait to see you there.
URL:https://magneticsouthbeer.com/event/boozy-book-fair-at-magnetic-south-greenville-on-5-25-24/
LOCATION:Magnetic South Greenville\, 701 Easley Bridge Rd\, Greenville\, SC\, 29611\, United States
CATEGORIES:Special Events
ATTACH;FMTTYPE=image/jpeg:https://magneticsouthbeer.com/wp-content/uploads/2024/04/https___cdn.evbuc_.com_images_732129279_264089669244_1_original.jpeg
END:VEVENT
END:VCALENDAR