BEGIN:VCALENDAR
VERSION:2.0
PRODID:-//Magnetic South Brewery - ECPv6.15.18//NONSGML v1.0//EN
CALSCALE:GREGORIAN
METHOD:PUBLISH
X-WR-CALNAME:Magnetic South Brewery
X-ORIGINAL-URL:https://magneticsouthbeer.com
X-WR-CALDESC:Events for Magnetic South Brewery
REFRESH-INTERVAL;VALUE=DURATION:PT1H
X-Robots-Tag:noindex
X-PUBLISHED-TTL:PT1H
BEGIN:VTIMEZONE
TZID:America/New_York
BEGIN:DAYLIGHT
TZOFFSETFROM:-0500
TZOFFSETTO:-0400
TZNAME:EDT
DTSTART:20230312T070000
END:DAYLIGHT
BEGIN:STANDARD
TZOFFSETFROM:-0400
TZOFFSETTO:-0500
TZNAME:EST
DTSTART:20231105T060000
END:STANDARD
BEGIN:DAYLIGHT
TZOFFSETFROM:-0500
TZOFFSETTO:-0400
TZNAME:EDT
DTSTART:20240310T070000
END:DAYLIGHT
BEGIN:STANDARD
TZOFFSETFROM:-0400
TZOFFSETTO:-0500
TZNAME:EST
DTSTART:20241103T060000
END:STANDARD
BEGIN:DAYLIGHT
TZOFFSETFROM:-0500
TZOFFSETTO:-0400
TZNAME:EDT
DTSTART:20250309T070000
END:DAYLIGHT
BEGIN:STANDARD
TZOFFSETFROM:-0400
TZOFFSETTO:-0500
TZNAME:EST
DTSTART:20251102T060000
END:STANDARD
END:VTIMEZONE
BEGIN:VEVENT
DTSTART;TZID=America/New_York:20240601T200000
DTEND;TZID=America/New_York:20240601T213000
DTSTAMP:20260425T150442
CREATED:20240319T182125Z
LAST-MODIFIED:20240319T182125Z
UID:1988-1717272000-1717277400@magneticsouthbeer.com
SUMMARY:Next Stop Comedy at Magnetic South Brewery! - Greenville\, SC
DESCRIPTION:Next Stop Comedy brings top stand-up comedians to your favorite local venues! Each show features a novel line-up with acts seen on TV and heard on your favorite podcasts. \nJoin us at Magnetic South Brewery in Greensville\, SC! – 701 Easley Bridge Rd #4155\, Greenville\, SC 29611 \nFor more info\, check out our website! – nextstopcomedy.com
URL:https://magneticsouthbeer.com/event/next-stop-comedy-at-magnetic-south-brewery-greenville-sc/
LOCATION:Magnetic South Greenville\, 701 Easley Bridge Rd\, Greenville\, SC\, 29611\, United States
CATEGORIES:Special Events
ATTACH;FMTTYPE=image/png:https://magneticsouthbeer.com/wp-content/uploads/2024/03/Magnetic-South-Brewery-Venue-Poster-with-QR-Code.png
END:VEVENT
END:VCALENDAR