BEGIN:VCALENDAR
VERSION:2.0
PRODID:-//Magnetic South Brewery - ECPv6.15.18//NONSGML v1.0//EN
CALSCALE:GREGORIAN
METHOD:PUBLISH
X-WR-CALNAME:Magnetic South Brewery
X-ORIGINAL-URL:https://magneticsouthbeer.com
X-WR-CALDESC:Events for Magnetic South Brewery
REFRESH-INTERVAL;VALUE=DURATION:PT1H
X-Robots-Tag:noindex
X-PUBLISHED-TTL:PT1H
BEGIN:VTIMEZONE
TZID:America/New_York
BEGIN:DAYLIGHT
TZOFFSETFROM:-0500
TZOFFSETTO:-0400
TZNAME:EDT
DTSTART:20220313T070000
END:DAYLIGHT
BEGIN:STANDARD
TZOFFSETFROM:-0400
TZOFFSETTO:-0500
TZNAME:EST
DTSTART:20221106T060000
END:STANDARD
BEGIN:DAYLIGHT
TZOFFSETFROM:-0500
TZOFFSETTO:-0400
TZNAME:EDT
DTSTART:20230312T070000
END:DAYLIGHT
BEGIN:STANDARD
TZOFFSETFROM:-0400
TZOFFSETTO:-0500
TZNAME:EST
DTSTART:20231105T060000
END:STANDARD
BEGIN:DAYLIGHT
TZOFFSETFROM:-0500
TZOFFSETTO:-0400
TZNAME:EDT
DTSTART:20240310T070000
END:DAYLIGHT
BEGIN:STANDARD
TZOFFSETFROM:-0400
TZOFFSETTO:-0500
TZNAME:EST
DTSTART:20241103T060000
END:STANDARD
BEGIN:DAYLIGHT
TZOFFSETFROM:-0500
TZOFFSETTO:-0400
TZNAME:EDT
DTSTART:20250309T070000
END:DAYLIGHT
BEGIN:STANDARD
TZOFFSETFROM:-0400
TZOFFSETTO:-0500
TZNAME:EST
DTSTART:20251102T060000
END:STANDARD
END:VTIMEZONE
BEGIN:VEVENT
DTSTART;TZID=America/New_York:20230705T183000
DTEND;TZID=America/New_York:20230705T210000
DTSTAMP:20260425T230748
CREATED:20230620T141342Z
LAST-MODIFIED:20230620T141342Z
UID:1489-1688581800-1688590800@magneticsouthbeer.com
SUMMARY:Trivia Night
DESCRIPTION:We are launching weekly trivia at our Greenville location. Every Wednesday MiMi will be hosting trivia. Follow our page for updated info on what genre the trivia will be. Signup starts at 6\, first round at 6:30. Prizes for 1st\, 2nd and 3rd.
URL:https://magneticsouthbeer.com/event/trivia-night-7/
LOCATION:Magnetic South Greenville\, 701 Easley Bridge Rd\, Greenville\, SC\, 29611\, United States
ATTACH;FMTTYPE=image/jpeg:https://magneticsouthbeer.com/wp-content/uploads/2023/05/trivia-mimi-16-9.jpg
END:VEVENT
BEGIN:VEVENT
DTSTART;TZID=America/New_York:20230709T180000
DTEND;TZID=America/New_York:20230709T210000
DTSTAMP:20260425T230748
CREATED:20230620T143214Z
LAST-MODIFIED:20230620T143214Z
UID:1504-1688925600-1688936400@magneticsouthbeer.com
SUMMARY:Settlers of Catan Game Night
DESCRIPTION:
URL:https://magneticsouthbeer.com/event/settlers-of-catan-game-night/
LOCATION:Magnetic South Greenville\, 701 Easley Bridge Rd\, Greenville\, SC\, 29611\, United States
ATTACH;FMTTYPE=image/jpeg:https://magneticsouthbeer.com/wp-content/uploads/2023/06/catan-game-night-web.jpg
END:VEVENT
BEGIN:VEVENT
DTSTART;TZID=America/New_York:20230714T180000
DTEND;TZID=America/New_York:20230714T200000
DTSTAMP:20260425T230748
CREATED:20230620T143828Z
LAST-MODIFIED:20230620T143828Z
UID:1510-1689357600-1689364800@magneticsouthbeer.com
SUMMARY:Junkyard Gym Table
DESCRIPTION:
URL:https://magneticsouthbeer.com/event/junkyard-gym-table/
LOCATION:Magnetic South Anderson\, 516 North Main Street\, Anderson\, SC\, United States
ATTACH;FMTTYPE=image/jpeg:https://magneticsouthbeer.com/wp-content/uploads/2023/05/magnetic-south-marquee-16-9.jpg
END:VEVENT
BEGIN:VEVENT
DTSTART;TZID=America/New_York:20230721T180000
DTEND;TZID=America/New_York:20230721T213000
DTSTAMP:20260425T230748
CREATED:20230620T143912Z
LAST-MODIFIED:20230620T143912Z
UID:1512-1689962400-1689975000@magneticsouthbeer.com
SUMMARY:Amongst the Trees Live Music
DESCRIPTION:
URL:https://magneticsouthbeer.com/event/amongst-the-trees-live-music-2/
LOCATION:Magnetic South Anderson\, 516 North Main Street\, Anderson\, SC\, United States
ATTACH;FMTTYPE=image/jpeg:https://magneticsouthbeer.com/wp-content/uploads/2023/04/live-music-event-graphic.jpg
END:VEVENT
BEGIN:VEVENT
DTSTART;TZID=America/New_York:20230802T183000
DTEND;TZID=America/New_York:20230802T210000
DTSTAMP:20260425T230748
CREATED:20230620T141504Z
LAST-MODIFIED:20230801T210746Z
UID:1494-1691001000-1691010000@magneticsouthbeer.com
SUMMARY:Trivia Night
DESCRIPTION:We are launching weekly trivia at our Greenville location. Every Wednesday MiMi will be hosting trivia. Follow our page for updated info on what genre the trivia will be. Signup starts at 6\, first round at 6:30. Prizes for 1st\, 2nd and 3rd.
URL:https://magneticsouthbeer.com/event/trivia-night-9/
LOCATION:Magnetic South Greenville\, 701 Easley Bridge Rd\, Greenville\, SC\, 29611\, United States
CATEGORIES:Game Nights
ATTACH;FMTTYPE=image/jpeg:https://magneticsouthbeer.com/wp-content/uploads/2023/05/trivia-mimi-16-9.jpg
END:VEVENT
BEGIN:VEVENT
DTSTART;TZID=America/New_York:20230804T170000
DTEND;TZID=America/New_York:20230804T210000
DTSTAMP:20260425T230748
CREATED:20230620T141756Z
LAST-MODIFIED:20230801T210817Z
UID:1500-1691168400-1691182800@magneticsouthbeer.com
SUMMARY:Sip & Shop
DESCRIPTION:Join us once again for our Monthly sip and shop markets at The North Main Commons outside of Magnetic South. These markets will run along side our Friday Night Music series. Come support local artist\, crafters and businesses. Be sure to check out our favorite neighboring business at The old Den building\, The Beehive and The Apple Dumpling. \nIn the event of rain the vendors will move inside to the back of the brewery. \nApply for vendor spots at weekendscmarket.com
URL:https://magneticsouthbeer.com/event/sip-shop-2/
LOCATION:Magnetic South Anderson\, 516 North Main Street\, Anderson\, SC\, United States
CATEGORIES:Sip and Something
ATTACH;FMTTYPE=image/jpeg:https://magneticsouthbeer.com/wp-content/uploads/2023/05/Sip-Shop-16-9.jpg
END:VEVENT
BEGIN:VEVENT
DTSTART;TZID=America/New_York:20230804T180000
DTEND;TZID=America/New_York:20230804T213000
DTSTAMP:20260425T230748
CREATED:20230620T141918Z
LAST-MODIFIED:20230801T210850Z
UID:1502-1691172000-1691184600@magneticsouthbeer.com
SUMMARY:Mojo on Max Live Music
DESCRIPTION:
URL:https://magneticsouthbeer.com/event/mojo-on-max-live-music-2/
LOCATION:Magnetic South Anderson\, 516 North Main Street\, Anderson\, SC\, United States
CATEGORIES:Live Music
ATTACH;FMTTYPE=image/jpeg:https://magneticsouthbeer.com/wp-content/uploads/2023/04/live-music-event-graphic.jpg
END:VEVENT
BEGIN:VEVENT
DTSTART;TZID=America/New_York:20230804T190000
DTEND;TZID=America/New_York:20230804T220000
DTSTAMP:20260425T230748
CREATED:20230803T174307Z
LAST-MODIFIED:20230803T174410Z
UID:1629-1691175600-1691186400@magneticsouthbeer.com
SUMMARY:Beer Pong Night
DESCRIPTION:Fridays were made for games\, beer\, and good times.. so you won’t want to miss out on our pong tournament! Gather your squad\, prepare those winning shots\, and join us for a cold glass of beer and a night full of fun! \nFree play at 7pm and the tournament begins at 8pm.
URL:https://magneticsouthbeer.com/event/beer-pong-night/
LOCATION:Magnetic South Greenville\, 701 Easley Bridge Rd\, Greenville\, SC\, 29611\, United States
CATEGORIES:Game Nights
ATTACH;FMTTYPE=image/jpeg:https://magneticsouthbeer.com/wp-content/uploads/2023/08/Beer-Pong.jpg
END:VEVENT
BEGIN:VEVENT
DTSTART;TZID=America/New_York:20230807T190000
DTEND;TZID=America/New_York:20230807T210000
DTSTAMP:20260425T230748
CREATED:20230620T141153Z
LAST-MODIFIED:20230801T210746Z
UID:1486-1691434800-1691442000@magneticsouthbeer.com
SUMMARY:MarioKart Monday
DESCRIPTION:Grab your friends and a drink to challenge them to a couple of races! So rev your engines for a ride down to Magnetic South. Get ready\, get set\, GO!
URL:https://magneticsouthbeer.com/event/mariokart-monday-5-2-2-2/
LOCATION:Magnetic South Greenville\, 701 Easley Bridge Rd\, Greenville\, SC\, 29611\, United States
CATEGORIES:Game Nights
ATTACH;FMTTYPE=image/jpeg:https://magneticsouthbeer.com/wp-content/uploads/2023/06/MarioKart-Monday-web.jpg
END:VEVENT
BEGIN:VEVENT
DTSTART;TZID=America/New_York:20230809T183000
DTEND;TZID=America/New_York:20230809T210000
DTSTAMP:20260425T230748
CREATED:20230620T141421Z
LAST-MODIFIED:20230801T212007Z
UID:1491-1691605800-1691614800@magneticsouthbeer.com
SUMMARY:Trivia Night
DESCRIPTION:We are launching weekly trivia at our Greenville location. Every Wednesday MiMi will be hosting trivia. Follow our page for updated info on what genre the trivia will be. Signup starts at 6\, first round at 6:30. Prizes for 1st\, 2nd and 3rd.
URL:https://magneticsouthbeer.com/event/trivia-night-8-9-23/
LOCATION:Magnetic South Greenville\, 701 Easley Bridge Rd\, Greenville\, SC\, 29611\, United States
CATEGORIES:Game Nights
ATTACH;FMTTYPE=image/jpeg:https://magneticsouthbeer.com/wp-content/uploads/2023/05/trivia-mimi-16-9.jpg
END:VEVENT
BEGIN:VEVENT
DTSTART;TZID=America/New_York:20230811T180000
DTEND;TZID=America/New_York:20230811T213000
DTSTAMP:20260425T230748
CREATED:20230620T143346Z
LAST-MODIFIED:20230801T210850Z
UID:1508-1691776800-1691789400@magneticsouthbeer.com
SUMMARY:Secondhand News Live Music
DESCRIPTION:
URL:https://magneticsouthbeer.com/event/secondhand-news-live-music-2/
LOCATION:Magnetic South Anderson\, 516 North Main Street\, Anderson\, SC\, United States
CATEGORIES:Live Music
ATTACH;FMTTYPE=image/jpeg:https://magneticsouthbeer.com/wp-content/uploads/2023/04/live-music-event-graphic.jpg
END:VEVENT
BEGIN:VEVENT
DTSTART;TZID=America/New_York:20230814T180000
DTEND;TZID=America/New_York:20230814T193000
DTSTAMP:20260425T230748
CREATED:20230607T161437Z
LAST-MODIFIED:20230801T210817Z
UID:1399-1692036000-1692041400@magneticsouthbeer.com
SUMMARY:Sip & Script
DESCRIPTION:
URL:https://magneticsouthbeer.com/event/sip-script/
LOCATION:Magnetic South Greenville\, 701 Easley Bridge Rd\, Greenville\, SC\, 29611\, United States
CATEGORIES:Sip and Something
ATTACH;FMTTYPE=image/jpeg:https://magneticsouthbeer.com/wp-content/uploads/2023/06/Sip-and-Script-web.jpg
END:VEVENT
BEGIN:VEVENT
DTSTART;TZID=America/New_York:20230814T190000
DTEND;TZID=America/New_York:20230814T210000
DTSTAMP:20260425T230748
CREATED:20230620T141058Z
LAST-MODIFIED:20230801T210746Z
UID:1483-1692039600-1692046800@magneticsouthbeer.com
SUMMARY:MarioKart Monday
DESCRIPTION:Grab your friends and a drink to challenge them to a couple of races! So rev your engines for a ride down to Magnetic South. Get ready\, get set\, GO!
URL:https://magneticsouthbeer.com/event/mariokart-monday-4-2/
LOCATION:Magnetic South Greenville\, 701 Easley Bridge Rd\, Greenville\, SC\, 29611\, United States
CATEGORIES:Game Nights
ATTACH;FMTTYPE=image/jpeg:https://magneticsouthbeer.com/wp-content/uploads/2023/06/MarioKart-Monday-web.jpg
END:VEVENT
BEGIN:VEVENT
DTSTART;TZID=America/New_York:20230816T183000
DTEND;TZID=America/New_York:20230816T210000
DTSTAMP:20260425T230748
CREATED:20230620T141607Z
LAST-MODIFIED:20230801T211945Z
UID:1497-1692210600-1692219600@magneticsouthbeer.com
SUMMARY:Trivia Night
DESCRIPTION:We are launching weekly trivia at our Greenville location. Every Wednesday MiMi will be hosting trivia. Follow our page for updated info on what genre the trivia will be. Signup starts at 6\, first round at 6:30. Prizes for 1st\, 2nd and 3rd.
URL:https://magneticsouthbeer.com/event/trivia-night-8-16-23/
LOCATION:Magnetic South Greenville\, 701 Easley Bridge Rd\, Greenville\, SC\, 29611\, United States
CATEGORIES:Game Nights
ATTACH;FMTTYPE=image/jpeg:https://magneticsouthbeer.com/wp-content/uploads/2023/05/trivia-mimi-16-9.jpg
END:VEVENT
BEGIN:VEVENT
DTSTART;TZID=America/New_York:20230818T180000
DTEND;TZID=America/New_York:20230818T213000
DTSTAMP:20260425T230748
CREATED:20230607T170259Z
LAST-MODIFIED:20230801T210850Z
UID:1414-1692381600-1692394200@magneticsouthbeer.com
SUMMARY:Speed Triple Live Music
DESCRIPTION:
URL:https://magneticsouthbeer.com/event/speed-triple-live-music/
LOCATION:Magnetic South Anderson\, 516 North Main Street\, Anderson\, SC\, United States
CATEGORIES:Live Music
ATTACH;FMTTYPE=image/jpeg:https://magneticsouthbeer.com/wp-content/uploads/2023/04/live-music-event-graphic.jpg
END:VEVENT
BEGIN:VEVENT
DTSTART;TZID=America/New_York:20230821T190000
DTEND;TZID=America/New_York:20230821T210000
DTSTAMP:20260425T230748
CREATED:20230620T140839Z
LAST-MODIFIED:20230801T210746Z
UID:1480-1692644400-1692651600@magneticsouthbeer.com
SUMMARY:MarioKart Monday
DESCRIPTION:Grab your friends and a drink to challenge them to a couple of races! So rev your engines for a ride down to Magnetic South. Get ready\, get set\, GO!
URL:https://magneticsouthbeer.com/event/mariokart-monday-3/
LOCATION:Magnetic South Greenville\, 701 Easley Bridge Rd\, Greenville\, SC\, 29611\, United States
CATEGORIES:Game Nights
ATTACH;FMTTYPE=image/jpeg:https://magneticsouthbeer.com/wp-content/uploads/2023/06/MarioKart-Monday-web.jpg
END:VEVENT
BEGIN:VEVENT
DTSTART;TZID=America/New_York:20230823T183000
DTEND;TZID=America/New_York:20230823T210000
DTSTAMP:20260425T230748
CREATED:20230801T211436Z
LAST-MODIFIED:20230801T211908Z
UID:1611-1692815400-1692824400@magneticsouthbeer.com
SUMMARY:Trivia Night
DESCRIPTION:We are launching weekly trivia at our Greenville location. Every Wednesday MiMi will be hosting trivia. Follow our page for updated info on what genre the trivia will be. Signup starts at 6\, first round at 6:30. Prizes for 1st\, 2nd and 3rd.
URL:https://magneticsouthbeer.com/event/trivia-night-8-23-23/
LOCATION:Magnetic South Greenville\, 701 Easley Bridge Rd\, Greenville\, SC\, 29611\, United States
CATEGORIES:Game Nights
ATTACH;FMTTYPE=image/jpeg:https://magneticsouthbeer.com/wp-content/uploads/2023/05/trivia-mimi-16-9.jpg
END:VEVENT
BEGIN:VEVENT
DTSTART;TZID=America/New_York:20230825T180000
DTEND;TZID=America/New_York:20230825T213000
DTSTAMP:20260425T230748
CREATED:20230607T164650Z
LAST-MODIFIED:20230801T210440Z
UID:1409-1692986400-1692999000@magneticsouthbeer.com
SUMMARY:Marvin King Live Music
DESCRIPTION:
URL:https://magneticsouthbeer.com/event/marvin-king-live-music/
LOCATION:Magnetic South Anderson\, 516 North Main Street\, Anderson\, SC\, United States
CATEGORIES:Live Music
ATTACH;FMTTYPE=image/jpeg:https://magneticsouthbeer.com/wp-content/uploads/2023/04/live-music-event-graphic.jpg
END:VEVENT
BEGIN:VEVENT
DTSTART;TZID=America/New_York:20230828T190000
DTEND;TZID=America/New_York:20230828T210000
DTSTAMP:20260425T230748
CREATED:20230620T140722Z
LAST-MODIFIED:20230801T210746Z
UID:1477-1693249200-1693256400@magneticsouthbeer.com
SUMMARY:MarioKart Monday
DESCRIPTION:Grab your friends and a drink to challenge them to a couple of races! So rev your engines for a ride down to Magnetic South. Get ready\, get set\, GO!
URL:https://magneticsouthbeer.com/event/mariokart-monday-2/
LOCATION:Magnetic South Greenville\, 701 Easley Bridge Rd\, Greenville\, SC\, 29611\, United States
CATEGORIES:Game Nights
ATTACH;FMTTYPE=image/jpeg:https://magneticsouthbeer.com/wp-content/uploads/2023/06/MarioKart-Monday-web.jpg
END:VEVENT
BEGIN:VEVENT
DTSTART;TZID=America/New_York:20230830T183000
DTEND;TZID=America/New_York:20230830T210000
DTSTAMP:20260425T230748
CREATED:20230801T211724Z
LAST-MODIFIED:20230801T211850Z
UID:1612-1693420200-1693429200@magneticsouthbeer.com
SUMMARY:Trivia Night
DESCRIPTION:We are launching weekly trivia at our Greenville location. Every Wednesday MiMi will be hosting trivia. Follow our page for updated info on what genre the trivia will be. Signup starts at 6\, first round at 6:30. Prizes for 1st\, 2nd and 3rd.
URL:https://magneticsouthbeer.com/event/trivia-night-8-30-23/
LOCATION:Magnetic South Greenville\, 701 Easley Bridge Rd\, Greenville\, SC\, 29611\, United States
CATEGORIES:Game Nights
ATTACH;FMTTYPE=image/jpeg:https://magneticsouthbeer.com/wp-content/uploads/2023/05/trivia-mimi-16-9.jpg
END:VEVENT
BEGIN:VEVENT
DTSTART;TZID=America/New_York:20230901T170000
DTEND;TZID=America/New_York:20230901T210000
DTSTAMP:20260425T230748
CREATED:20230516T155229Z
LAST-MODIFIED:20230801T210817Z
UID:1332-1693587600-1693602000@magneticsouthbeer.com
SUMMARY:Sip & Shop
DESCRIPTION:Join us once again for our Monthly sip and shop markets at The North Main Commons outside of Magnetic South. These markets will run along side our Friday Night Music series. Come support local artist\, crafters and businesses. Be sure to check out our favorite neighboring business at The old Den building\, The Beehive and The Apple Dumpling. \nIn the event of rain the vendors will move inside to the back of the brewery. \nApply for vendor spots at weekendscmarket.com
URL:https://magneticsouthbeer.com/event/sip-shop/
LOCATION:Magnetic South Anderson\, 516 North Main Street\, Anderson\, SC\, United States
CATEGORIES:Sip and Something
ATTACH;FMTTYPE=image/jpeg:https://magneticsouthbeer.com/wp-content/uploads/2023/05/Sip-Shop-16-9.jpg
END:VEVENT
BEGIN:VEVENT
DTSTART;TZID=America/New_York:20230915T180000
DTEND;TZID=America/New_York:20230916T180000
DTSTAMP:20260425T230748
CREATED:20230911T142642Z
LAST-MODIFIED:20230911T142642Z
UID:1690-1694800800-1694887200@magneticsouthbeer.com
SUMMARY:2ND Anniversary Party Weekend
DESCRIPTION:Celebrate our 2nd anniversary with us..\nLive music\, food and fun!! \nScheduled line up:\nFriday 6pm : Amongst The Trees\nSaturday 2-5pm: According to Taste\n6pm-Close: Soul Legit
URL:https://magneticsouthbeer.com/event/2nd-anniversary-party-weekend/
LOCATION:Magnetic South Anderson\, 516 North Main Street\, Anderson\, SC\, United States
CATEGORIES:Live Music
ATTACH;FMTTYPE=image/jpeg:https://magneticsouthbeer.com/wp-content/uploads/2023/09/Anniversary_Weekend_Poster-2023-proof.jpg
END:VEVENT
BEGIN:VEVENT
DTSTART;TZID=America/New_York:20230915T180000
DTEND;TZID=America/New_York:20231110T180000
DTSTAMP:20260425T230748
CREATED:20230911T151547Z
LAST-MODIFIED:20230911T151547Z
UID:1704-1694800800-1699639200@magneticsouthbeer.com
SUMMARY:Friday Night Music Series
DESCRIPTION:🎶 Kickstart your weekend with the Friday Night Music Series! 🎶 \nJoin us every Friday at 6 PM for a musical journey that will set the perfect tone for your weekend ahead. Whether you’re a music enthusiast\, a casual listener\, or simply looking for a great way to unwind\, our Friday Night Music Series offers a diverse lineup of talented artists and bands to soothe your soul and elevate your Friday night.
URL:https://magneticsouthbeer.com/event/friday-night-music-series/
LOCATION:Magnetic South Anderson\, 516 North Main Street\, Anderson\, SC\, United States
CATEGORIES:Live Music
ATTACH;FMTTYPE=image/jpeg:https://magneticsouthbeer.com/wp-content/uploads/2023/09/2023-Friday-Music-Series.jpg
END:VEVENT
BEGIN:VEVENT
DTSTART;TZID=America/New_York:20231006T170000
DTEND;TZID=America/New_York:20231124T170000
DTSTAMP:20260425T230748
CREATED:20230911T153218Z
LAST-MODIFIED:20230911T153218Z
UID:1707-1696611600-1700845200@magneticsouthbeer.com
SUMMARY:Sip and Shop Markets
DESCRIPTION:Join us once again for our Monthly sip and shop markets at The North Main Commons outside of Magnetic South. These markets will run along side our Friday Night Music series. Come support local artist\, crafters and businesses. Be sure to check out our favorite neighboring business at The old Den building\, The Beehive and The Apple Dumpling.\n\nIn the event of rain the vendors will move inside to the back of the brewery.\nApply for vendor spots at weekendscmarket.com
URL:https://magneticsouthbeer.com/event/sip-and-shop-markets/
LOCATION:Magnetic South Anderson\, 516 North Main Street\, Anderson\, SC\, United States
CATEGORIES:Sip and Shop
ATTACH;FMTTYPE=image/jpeg:https://magneticsouthbeer.com/wp-content/uploads/2023/09/SipandShop-poster-2023.jpg
END:VEVENT
BEGIN:VEVENT
DTSTART;TZID=America/New_York:20231027T180000
DTEND;TZID=America/New_York:20231028T180000
DTSTAMP:20260425T230748
CREATED:20230911T144031Z
LAST-MODIFIED:20230911T144031Z
UID:1693-1698429600-1698516000@magneticsouthbeer.com
SUMMARY:Halloween Party Weekend
DESCRIPTION:🎃 Get ready for the spookiest and most thrilling Halloween Party Weekend ever! 🎃 \n👻 Join us for a hauntingly good time as we celebrate all weekend long with spine-tingling excitement\, jaw-dropping costumes\, and unforgettable memories. It’s the ultimate Halloween bash you won’t want to miss! \nCostume party all weekend! \nLive music line up:\nFriday 6pm: Soul Legit\nSaturday: TBA
URL:https://magneticsouthbeer.com/event/halloween-party-weekend/
LOCATION:Magnetic South Anderson\, 516 North Main Street\, Anderson\, SC\, United States
CATEGORIES:Live Music
ATTACH;FMTTYPE=image/jpeg:https://magneticsouthbeer.com/wp-content/uploads/2023/09/HalloweenPartyPoster.jpg
END:VEVENT
BEGIN:VEVENT
DTSTART;TZID=America/New_York:20231201T180000
DTEND;TZID=America/New_York:20231201T220000
DTSTAMP:20260425T230748
CREATED:20240107T172158Z
LAST-MODIFIED:20240311T153944Z
UID:1867-1701453600-1701468000@magneticsouthbeer.com
SUMMARY:Anderson Live Music Line-Up
DESCRIPTION:Come on out and enjoy live music every Friday starting at 6pm until 9pm!
URL:https://magneticsouthbeer.com/event/anderson-live-music-line-up/
LOCATION:Magnetic South Anderson\, 516 North Main Street\, Anderson\, SC\, United States
CATEGORIES:Live Music
ATTACH;FMTTYPE=image/png:https://magneticsouthbeer.com/wp-content/uploads/2024/01/Anderson-Live-Music-Lineup.png
END:VEVENT
BEGIN:VEVENT
DTSTART;TZID=America/New_York:20231201T180000
DTEND;TZID=America/New_York:20231201T220000
DTSTAMP:20260425T230748
CREATED:20240107T172158Z
LAST-MODIFIED:20240311T153944Z
UID:1867-1701453600-1701468000@magneticsouthbeer.com
SUMMARY:Anderson Live Music Line-Up
DESCRIPTION:Come on out and enjoy live music every Friday starting at 6pm until 9pm!
URL:https://magneticsouthbeer.com/event/anderson-live-music-line-up/
LOCATION:Magnetic South Anderson\, 516 North Main Street\, Anderson\, SC\, United States
CATEGORIES:Live Music
ATTACH;FMTTYPE=image/png:https://magneticsouthbeer.com/wp-content/uploads/2024/01/Anderson-Live-Music-Lineup.png
END:VEVENT
BEGIN:VEVENT
DTSTART;TZID=America/New_York:20231210T150000
DTEND;TZID=America/New_York:20240225T200000
DTSTAMP:20260425T230748
CREATED:20231208T232952Z
LAST-MODIFIED:20240311T213411Z
UID:1829-1702220400-1708891200@magneticsouthbeer.com
SUMMARY:864 Disc Golf
DESCRIPTION:Come join us at our Judson Mill location in Greenville. Whether you’re looking to pick up a new skill/hobby or a place to hangout\, drink craft beer and throw discs. We have room for everyone & all are welcomed!
URL:https://magneticsouthbeer.com/event/864-disc-golf/
LOCATION:Magnetic South Greenville\, 701 Easley Bridge Rd\, Greenville\, SC\, 29611\, United States
CATEGORIES:Game Nights
ATTACH;FMTTYPE=image/png:https://magneticsouthbeer.com/wp-content/uploads/2023/12/864-Disc-Golf-Postcard.png
END:VEVENT
BEGIN:VEVENT
DTSTART;TZID=America/New_York:20231213T160000
DTEND;TZID=America/New_York:20231213T190000
DTSTAMP:20260425T230748
CREATED:20231208T225957Z
LAST-MODIFIED:20240312T174303Z
UID:1823-1702483200-1702494000@magneticsouthbeer.com
SUMMARY:Happy Hour - GVL
DESCRIPTION:Come on out and enjoy a craft beer during Happy Hour! Every Wednesday 4pm – 7pm at our Judson Mill location in Greenville. All full size draft pours are $5
URL:https://magneticsouthbeer.com/event/happy-hour/
LOCATION:Magnetic South Greenville\, 701 Easley Bridge Rd\, Greenville\, SC\, 29611\, United States
ATTACH;FMTTYPE=image/png:https://magneticsouthbeer.com/wp-content/uploads/2023/12/Resident-Happy-Hour-Flyer.png
END:VEVENT
BEGIN:VEVENT
DTSTART;TZID=America/New_York:20231213T183000
DTEND;TZID=America/New_York:20231213T210000
DTSTAMP:20260425T230748
CREATED:20231208T235835Z
LAST-MODIFIED:20240311T154434Z
UID:1836-1702492200-1702501200@magneticsouthbeer.com
SUMMARY:Trivia Night in Anderson
DESCRIPTION:Come on down to our Anderson location and put your knowledge to the test! Top 3 teams are awarded prizes! We offer Happy hour discounts to all trivia participants; $1 off full size draft pours!
URL:https://magneticsouthbeer.com/event/trivia-night-in-anderson/
LOCATION:Magnetic South Anderson\, 516 North Main Street\, Anderson\, SC\, United States
CATEGORIES:Game Nights
ATTACH;FMTTYPE=image/png:https://magneticsouthbeer.com/wp-content/uploads/2023/12/Anderson.png
END:VEVENT
END:VCALENDAR