BEGIN:VCALENDAR
VERSION:2.0
PRODID:-//Magnetic South Brewery - ECPv6.15.18//NONSGML v1.0//EN
CALSCALE:GREGORIAN
METHOD:PUBLISH
X-WR-CALNAME:Magnetic South Brewery
X-ORIGINAL-URL:https://magneticsouthbeer.com
X-WR-CALDESC:Events for Magnetic South Brewery
REFRESH-INTERVAL;VALUE=DURATION:PT1H
X-Robots-Tag:noindex
X-PUBLISHED-TTL:PT1H
BEGIN:VTIMEZONE
TZID:America/New_York
BEGIN:DAYLIGHT
TZOFFSETFROM:-0500
TZOFFSETTO:-0400
TZNAME:EDT
DTSTART:20220313T070000
END:DAYLIGHT
BEGIN:STANDARD
TZOFFSETFROM:-0400
TZOFFSETTO:-0500
TZNAME:EST
DTSTART:20221106T060000
END:STANDARD
BEGIN:DAYLIGHT
TZOFFSETFROM:-0500
TZOFFSETTO:-0400
TZNAME:EDT
DTSTART:20230312T070000
END:DAYLIGHT
BEGIN:STANDARD
TZOFFSETFROM:-0400
TZOFFSETTO:-0500
TZNAME:EST
DTSTART:20231105T060000
END:STANDARD
BEGIN:DAYLIGHT
TZOFFSETFROM:-0500
TZOFFSETTO:-0400
TZNAME:EDT
DTSTART:20240310T070000
END:DAYLIGHT
BEGIN:STANDARD
TZOFFSETFROM:-0400
TZOFFSETTO:-0500
TZNAME:EST
DTSTART:20241103T060000
END:STANDARD
END:VTIMEZONE
BEGIN:VEVENT
DTSTART;TZID=America/New_York:20230714T180000
DTEND;TZID=America/New_York:20230714T200000
DTSTAMP:20260425T215934
CREATED:20230620T143828Z
LAST-MODIFIED:20230620T143828Z
UID:1510-1689357600-1689364800@magneticsouthbeer.com
SUMMARY:Junkyard Gym Table
DESCRIPTION:
URL:https://magneticsouthbeer.com/event/junkyard-gym-table/
LOCATION:Magnetic South Anderson\, 516 North Main Street\, Anderson\, SC\, United States
ATTACH;FMTTYPE=image/jpeg:https://magneticsouthbeer.com/wp-content/uploads/2023/05/magnetic-south-marquee-16-9.jpg
END:VEVENT
BEGIN:VEVENT
DTSTART;TZID=America/New_York:20230709T180000
DTEND;TZID=America/New_York:20230709T210000
DTSTAMP:20260425T215934
CREATED:20230620T143214Z
LAST-MODIFIED:20230620T143214Z
UID:1504-1688925600-1688936400@magneticsouthbeer.com
SUMMARY:Settlers of Catan Game Night
DESCRIPTION:
URL:https://magneticsouthbeer.com/event/settlers-of-catan-game-night/
LOCATION:Magnetic South Greenville\, 701 Easley Bridge Rd\, Greenville\, SC\, 29611\, United States
ATTACH;FMTTYPE=image/jpeg:https://magneticsouthbeer.com/wp-content/uploads/2023/06/catan-game-night-web.jpg
END:VEVENT
BEGIN:VEVENT
DTSTART;TZID=America/New_York:20230705T183000
DTEND;TZID=America/New_York:20230705T210000
DTSTAMP:20260425T215934
CREATED:20230620T141342Z
LAST-MODIFIED:20230620T141342Z
UID:1489-1688581800-1688590800@magneticsouthbeer.com
SUMMARY:Trivia Night
DESCRIPTION:We are launching weekly trivia at our Greenville location. Every Wednesday MiMi will be hosting trivia. Follow our page for updated info on what genre the trivia will be. Signup starts at 6\, first round at 6:30. Prizes for 1st\, 2nd and 3rd.
URL:https://magneticsouthbeer.com/event/trivia-night-7/
LOCATION:Magnetic South Greenville\, 701 Easley Bridge Rd\, Greenville\, SC\, 29611\, United States
ATTACH;FMTTYPE=image/jpeg:https://magneticsouthbeer.com/wp-content/uploads/2023/05/trivia-mimi-16-9.jpg
END:VEVENT
BEGIN:VEVENT
DTSTART;TZID=America/New_York:20230703T190000
DTEND;TZID=America/New_York:20230703T210000
DTSTAMP:20260425T215934
CREATED:20230620T140627Z
LAST-MODIFIED:20230620T140627Z
UID:1474-1688410800-1688418000@magneticsouthbeer.com
SUMMARY:MarioKart Monday
DESCRIPTION:Grab your friends and a drink to challenge them to a couple of races! So rev your engines for a ride down to Magnetic South. Get ready\, get set\, GO!
URL:https://magneticsouthbeer.com/event/mariokart-monday/
LOCATION:Magnetic South Greenville\, 701 Easley Bridge Rd\, Greenville\, SC\, 29611\, United States
ATTACH;FMTTYPE=image/jpeg:https://magneticsouthbeer.com/wp-content/uploads/2023/06/MarioKart-Monday-web.jpg
END:VEVENT
BEGIN:VEVENT
DTSTART;TZID=America/New_York:20230630T190000
DTEND;TZID=America/New_York:20230630T203000
DTSTAMP:20260425T215934
CREATED:20230607T170449Z
LAST-MODIFIED:20230607T170449Z
UID:1416-1688151600-1688157000@magneticsouthbeer.com
SUMMARY:Sammy Adams Live Music @ The Foundry
DESCRIPTION:
URL:https://magneticsouthbeer.com/event/sammy-adams-live-music-the-foundry/
LOCATION:The Foundry\, 701 Easley Bridge Rd Unit 6030\, Greenville\, SC\, 29611\, United States
ATTACH;FMTTYPE=image/png:https://magneticsouthbeer.com/wp-content/uploads/2023/06/sammy-adams-1024x341-1.png
END:VEVENT
BEGIN:VEVENT
DTSTART;TZID=America/New_York:20230628T183000
DTEND;TZID=America/New_York:20230628T203000
DTSTAMP:20260425T215934
CREATED:20230607T155821Z
LAST-MODIFIED:20230607T155821Z
UID:1388-1687977000-1687984200@magneticsouthbeer.com
SUMMARY:Trivia Night
DESCRIPTION:We are launching weekly trivia at our Greenville location. Every Wednesday MiMi will be hosting trivia. Follow our page for updated info on what genre the trivia will be. Signup starts at 6\, first round at 6:30. Prizes for 1st\, 2nd and 3rd.
URL:https://magneticsouthbeer.com/event/trivia-night-6/
LOCATION:Magnetic South Greenville\, 701 Easley Bridge Rd\, Greenville\, SC\, 29611\, United States
ATTACH;FMTTYPE=image/jpeg:https://magneticsouthbeer.com/wp-content/uploads/2023/05/trivia-mimi-16-9.jpg
END:VEVENT
BEGIN:VEVENT
DTSTART;TZID=America/New_York:20230624T110000
DTEND;TZID=America/New_York:20230624T220000
DTSTAMP:20260425T215934
CREATED:20230607T170125Z
LAST-MODIFIED:20230607T170125Z
UID:1411-1687604400-1687644000@magneticsouthbeer.com
SUMMARY:JeepFest @ Historic Downtown Anderson
DESCRIPTION:
URL:https://magneticsouthbeer.com/event/jeepfest-historic-downtown-anderson/
LOCATION:Magnetic South Anderson\, 516 North Main Street\, Anderson\, SC\, United States
ATTACH;FMTTYPE=image/jpeg:https://magneticsouthbeer.com/wp-content/uploads/2023/06/JeepFest-web.jpg
END:VEVENT
BEGIN:VEVENT
DTSTART;TZID=America/New_York:20230622T190000
DTEND;TZID=America/New_York:20230622T203000
DTSTAMP:20260425T215934
CREATED:20230607T162714Z
LAST-MODIFIED:20230607T162714Z
UID:1406-1687460400-1687465800@magneticsouthbeer.com
SUMMARY:Sister Hazel Live Music
DESCRIPTION:
URL:https://magneticsouthbeer.com/event/sister-hazel-live-music/
LOCATION:The Foundry\, 701 Easley Bridge Rd Unit 6030\, Greenville\, SC\, 29611\, United States
ATTACH;FMTTYPE=image/jpeg:https://magneticsouthbeer.com/wp-content/uploads/2023/06/sister-hazel-1024x512-1.jpg
END:VEVENT
BEGIN:VEVENT
DTSTART;TZID=America/New_York:20230621T183000
DTEND;TZID=America/New_York:20230621T203000
DTSTAMP:20260425T215934
CREATED:20230607T155730Z
LAST-MODIFIED:20230607T155730Z
UID:1385-1687372200-1687379400@magneticsouthbeer.com
SUMMARY:Trivia Night
DESCRIPTION:We are launching weekly trivia at our Greenville location. Every Wednesday MiMi will be hosting trivia. Follow our page for updated info on what genre the trivia will be. Signup starts at 6\, first round at 6:30. Prizes for 1st\, 2nd and 3rd.
URL:https://magneticsouthbeer.com/event/trivia-night-5/
LOCATION:Magnetic South Greenville\, 701 Easley Bridge Rd\, Greenville\, SC\, 29611\, United States
ATTACH;FMTTYPE=image/jpeg:https://magneticsouthbeer.com/wp-content/uploads/2023/05/trivia-mimi-16-9.jpg
END:VEVENT
BEGIN:VEVENT
DTSTART;TZID=America/New_York:20230617T140000
DTEND;TZID=America/New_York:20230617T160000
DTSTAMP:20260425T215934
CREATED:20230516T160034Z
LAST-MODIFIED:20230516T160034Z
UID:1335-1687010400-1687017600@magneticsouthbeer.com
SUMMARY:Paint n' Sip w/Errant Artistry
DESCRIPTION:Errant Artistry will be at Magnetic South Brewery\, Greenville to paint “Together Not Alone “. This is a 2-Hour painting class that is led in a step-by-step manner to ensure all levels of artists leave with a masterpiece. All materials are provided for you\, all you need to do is show up and have a great time! This location is limited seating\, so make sure to grab yours ASAP. *Beverages\, Food etc. is sold separately from Errant Artistry* \nIf you have any questions\, please contact Andrea directly at 864-504-9957.
URL:https://magneticsouthbeer.com/event/paint-n-sip-w-errant-artistry-2/
LOCATION:Magnetic South Greenville\, 701 Easley Bridge Rd\, Greenville\, SC\, 29611\, United States
ATTACH;FMTTYPE=image/jpeg:https://magneticsouthbeer.com/wp-content/uploads/2023/05/paint-sip.jpeg
END:VEVENT
BEGIN:VEVENT
DTSTART;TZID=America/New_York:20230617T100000
DTEND;TZID=America/New_York:20230617T140000
DTSTAMP:20260425T215934
CREATED:20230607T162421Z
LAST-MODIFIED:20230607T162421Z
UID:1403-1686996000-1687010400@magneticsouthbeer.com
SUMMARY:Father's Day Car Show
DESCRIPTION:
URL:https://magneticsouthbeer.com/event/fathers-day-car-show/
LOCATION:Magnetic South Anderson\, 516 North Main Street\, Anderson\, SC\, United States
ATTACH;FMTTYPE=image/jpeg:https://magneticsouthbeer.com/wp-content/uploads/2023/06/Fathers-Day-car-Show-web.jpg
END:VEVENT
BEGIN:VEVENT
DTSTART;TZID=America/New_York:20230616T180000
DTEND;TZID=America/New_York:20230616T213000
DTSTAMP:20260425T215934
CREATED:20230607T161106Z
LAST-MODIFIED:20230607T161106Z
UID:1397-1686938400-1686951000@magneticsouthbeer.com
SUMMARY:Marvin King Revue Live Music
DESCRIPTION:
URL:https://magneticsouthbeer.com/event/marvin-king-revue-live-music/
LOCATION:Magnetic South Anderson\, 516 North Main Street\, Anderson\, SC\, United States
ATTACH;FMTTYPE=image/jpeg:https://magneticsouthbeer.com/wp-content/uploads/2023/04/live-music-event-graphic.jpg
END:VEVENT
BEGIN:VEVENT
DTSTART;TZID=America/New_York:20230614T183000
DTEND;TZID=America/New_York:20230614T203000
DTSTAMP:20260425T215934
CREATED:20230607T155607Z
LAST-MODIFIED:20230607T155607Z
UID:1382-1686767400-1686774600@magneticsouthbeer.com
SUMMARY:Trivia Night
DESCRIPTION:We are launching weekly trivia at our Greenville location. Every Wednesday MiMi will be hosting trivia. Follow our page for updated info on what genre the trivia will be. Signup starts at 6\, first round at 6:30. Prizes for 1st\, 2nd and 3rd.
URL:https://magneticsouthbeer.com/event/trivia-night-4/
LOCATION:Magnetic South Greenville\, 701 Easley Bridge Rd\, Greenville\, SC\, 29611\, United States
ATTACH;FMTTYPE=image/jpeg:https://magneticsouthbeer.com/wp-content/uploads/2023/05/trivia-mimi-16-9.jpg
END:VEVENT
BEGIN:VEVENT
DTSTART;TZID=America/New_York:20230611T180000
DTEND;TZID=America/New_York:20230611T193000
DTSTAMP:20260425T215934
CREATED:20230501T223607Z
LAST-MODIFIED:20230607T161602Z
UID:1305-1686506400-1686511800@magneticsouthbeer.com
SUMMARY:Beginner Calligraphy at Magnetic South Brewery
DESCRIPTION:Join Sip & Script® for a Night of Learning Calligraphy! \nJoin us at Magnetic South Brewery in Greenville\, SC for pretty lettering! Whether you’re a stationery nerd\, DIY Bride-to-be\, or just a crafty individual\, in this workshop you’ll be learning an introduction to modern calligraphy with a pointed dip pen and ink. We will cover all the basics and get you ready to add those special lettered details to your snail mail\, wedding paper goods\, home decor and more! The perfect crafty night out! \nClass includes 1.5 hours of instruction and demonstration\, our beginner’s calligraphy kit (two nibs\, black ink pot\, 2 letter guides\, tracing paper and straight pen holder)\, and all materials to write on. Everything is yours to keep at the end of the workshop!
URL:https://magneticsouthbeer.com/event/beginner-calligraphy-at-magnetic-south-brewery/
LOCATION:Magnetic South Anderson\, 516 North Main Street\, Anderson\, SC\, United States
ATTACH;FMTTYPE=image/jpeg:https://magneticsouthbeer.com/wp-content/uploads/2023/05/342507951_710472854169040_1309594881923396118_n.jpeg
END:VEVENT
BEGIN:VEVENT
DTSTART;TZID=America/New_York:20230609T190000
DTEND;TZID=America/New_York:20230609T203000
DTSTAMP:20260425T215934
CREATED:20230607T160414Z
LAST-MODIFIED:20230607T160414Z
UID:1394-1686337200-1686342600@magneticsouthbeer.com
SUMMARY:Trial by Fire Live Music
DESCRIPTION:
URL:https://magneticsouthbeer.com/event/trial-by-fire-live-music/
LOCATION:The Foundry\, 701 Easley Bridge Rd Unit 6030\, Greenville\, SC\, 29611\, United States
ATTACH;FMTTYPE=image/png:https://magneticsouthbeer.com/wp-content/uploads/2023/06/trial-by-fire-1024x576-1.png
END:VEVENT
BEGIN:VEVENT
DTSTART;TZID=America/New_York:20230609T180000
DTEND;TZID=America/New_York:20230609T213000
DTSTAMP:20260425T215934
CREATED:20230607T160034Z
LAST-MODIFIED:20230607T160034Z
UID:1392-1686333600-1686346200@magneticsouthbeer.com
SUMMARY:Secondhand News Live Music
DESCRIPTION:
URL:https://magneticsouthbeer.com/event/secondhand-news-live-music/
LOCATION:Magnetic South Anderson\, 516 North Main Street\, Anderson\, SC\, United States
ATTACH;FMTTYPE=image/jpeg:https://magneticsouthbeer.com/wp-content/uploads/2023/04/live-music-event-graphic.jpg
END:VEVENT
BEGIN:VEVENT
DTSTART;TZID=America/New_York:20230607T183000
DTEND;TZID=America/New_York:20230607T203000
DTSTAMP:20260425T215934
CREATED:20230607T155216Z
LAST-MODIFIED:20230607T155216Z
UID:1380-1686162600-1686169800@magneticsouthbeer.com
SUMMARY:Trivia Night
DESCRIPTION:We are launching weekly trivia at our Greenville location. Every Wednesday MiMi will be hosting trivia. Follow our page for updated info on what genre the trivia will be. Signup starts at 6\, first round at 6:30. Prizes for 1st\, 2nd and 3rd.
URL:https://magneticsouthbeer.com/event/trivia-night-3/
LOCATION:Magnetic South Greenville\, 701 Easley Bridge Rd\, Greenville\, SC\, 29611\, United States
ATTACH;FMTTYPE=image/jpeg:https://magneticsouthbeer.com/wp-content/uploads/2023/05/trivia-mimi-16-9.jpg
END:VEVENT
BEGIN:VEVENT
DTSTART;TZID=America/New_York:20230603T190000
DTEND;TZID=America/New_York:20230603T210000
DTSTAMP:20260425T215934
CREATED:20230516T185344Z
LAST-MODIFIED:20230516T185344Z
UID:1347-1685818800-1685826000@magneticsouthbeer.com
SUMMARY:Silent Disco
DESCRIPTION:We are throwing a silent disco rager! Fresh beats from DJ Tennis Legend. Grab a pair of onsite headphones from New Wave Sound Co and dance the night away!
URL:https://magneticsouthbeer.com/event/silent-disco/
LOCATION:Magnetic South Greenville\, 701 Easley Bridge Rd\, Greenville\, SC\, 29611\, United States
ATTACH;FMTTYPE=image/jpeg:https://magneticsouthbeer.com/wp-content/uploads/2023/05/Silent-Disco-Post-16-9-scaled.jpg
END:VEVENT
BEGIN:VEVENT
DTSTART;TZID=America/New_York:20230602T180000
DTEND;TZID=America/New_York:20230602T213000
DTSTAMP:20260425T215934
CREATED:20230516T184518Z
LAST-MODIFIED:20230516T184518Z
UID:1345-1685728800-1685741400@magneticsouthbeer.com
SUMMARY:Mojo on Max Live Music
DESCRIPTION:
URL:https://magneticsouthbeer.com/event/mojo-on-max-live-music/
LOCATION:Magnetic South Anderson\, 516 North Main Street\, Anderson\, SC\, United States
ATTACH;FMTTYPE=image/jpeg:https://magneticsouthbeer.com/wp-content/uploads/2023/04/live-music-event-graphic.jpg
END:VEVENT
BEGIN:VEVENT
DTSTART;TZID=America/New_York:20230526T180000
DTEND;TZID=America/New_York:20230526T213000
DTSTAMP:20260425T215934
CREATED:20230516T184332Z
LAST-MODIFIED:20230516T184332Z
UID:1343-1685124000-1685136600@magneticsouthbeer.com
SUMMARY:Amongst the Trees Live Music
DESCRIPTION:
URL:https://magneticsouthbeer.com/event/amongst-the-trees-live-music/
LOCATION:Magnetic South Anderson\, 516 North Main Street\, Anderson\, SC\, United States
ATTACH;FMTTYPE=image/jpeg:https://magneticsouthbeer.com/wp-content/uploads/2023/04/live-music-event-graphic.jpg
END:VEVENT
BEGIN:VEVENT
DTSTART;TZID=America/New_York:20230526T180000
DTEND;TZID=America/New_York:20230526T190000
DTSTAMP:20260425T215934
CREATED:20230516T190104Z
LAST-MODIFIED:20230516T190647Z
UID:1350-1685124000-1685127600@magneticsouthbeer.com
SUMMARY:Gimme Gimme Disco
DESCRIPTION:
URL:https://magneticsouthbeer.com/event/gimme-gimme-disco/
LOCATION:The Foundry\, 701 Easley Bridge Rd Unit 6030\, Greenville\, SC\, 29611\, United States
ATTACH;FMTTYPE=image/jpeg:https://magneticsouthbeer.com/wp-content/uploads/2023/05/gimme-disco-16-9.jpg
END:VEVENT
BEGIN:VEVENT
DTSTART;TZID=America/New_York:20230524T180000
DTEND;TZID=America/New_York:20230524T203000
DTSTAMP:20260425T215934
CREATED:20230516T191401Z
LAST-MODIFIED:20230516T191401Z
UID:1355-1684951200-1684960200@magneticsouthbeer.com
SUMMARY:Trivia Night
DESCRIPTION:We are launching weekly trivia at our Greenville location. Every Wednesday MiMi will be hosting trivia. Follow our page for updated info on what genre the trivia will be. Signup starts at 6\, first round at 6:30. Prizes for 1st\, 2nd and 3rd.
URL:https://magneticsouthbeer.com/event/trivia-night-2/
LOCATION:Magnetic South Greenville\, 701 Easley Bridge Rd\, Greenville\, SC\, 29611\, United States
ATTACH;FMTTYPE=image/jpeg:https://magneticsouthbeer.com/wp-content/uploads/2023/05/trivia-mimi-16-9.jpg
END:VEVENT
BEGIN:VEVENT
DTSTART;TZID=America/New_York:20230520T110000
DTEND;TZID=America/New_York:20230520T160000
DTSTAMP:20260425T215934
CREATED:20230414T183018Z
LAST-MODIFIED:20230414T204050Z
UID:1274-1684580400-1684598400@magneticsouthbeer.com
SUMMARY:JudFest (Free Community Event Celebrating Judson Mill)
DESCRIPTION:The Band Line-Up:\n7:00pm Sevendust Concert @ The Foundry Tickets available at www.foundrygvl.com\nMOJO ON MAX • 2pm – 5pm\nDJ tennis legend • 5:30 – 8pm \n 
URL:https://magneticsouthbeer.com/event/judfest-free-community-event-celebrating-judson-mill/
LOCATION:Magnetic South Greenville\, 701 Easley Bridge Rd\, Greenville\, SC\, 29611\, United States
ATTACH;FMTTYPE=image/jpeg:https://magneticsouthbeer.com/wp-content/uploads/2023/04/Judfest-Cover-Photo-1.jpg
END:VEVENT
BEGIN:VEVENT
DTSTART;TZID=America/New_York:20230519T180000
DTEND;TZID=America/New_York:20230519T213000
DTSTAMP:20260425T215934
CREATED:20230516T184117Z
LAST-MODIFIED:20230516T184117Z
UID:1340-1684519200-1684531800@magneticsouthbeer.com
SUMMARY:According to Taste Live Music
DESCRIPTION:
URL:https://magneticsouthbeer.com/event/according-to-taste-live-music/
LOCATION:Magnetic South Anderson\, 516 North Main Street\, Anderson\, SC\, United States
ATTACH;FMTTYPE=image/jpeg:https://magneticsouthbeer.com/wp-content/uploads/2023/04/live-music-event-graphic.jpg
END:VEVENT
BEGIN:VEVENT
DTSTART;TZID=America/New_York:20230517T180000
DTEND;TZID=America/New_York:20230517T203000
DTSTAMP:20260425T215934
CREATED:20230516T154601Z
LAST-MODIFIED:20230516T154601Z
UID:1329-1684346400-1684355400@magneticsouthbeer.com
SUMMARY:Trivia Night
DESCRIPTION:We are launching weekly trivia at our Greenville location. Every Wednesday MiMi will be hosting trivia. Follow our page for updated info on what genre the trivia will be. Signup starts at 6\, first round at 6:30. Prizes for 1st\, 2nd and 3rd.
URL:https://magneticsouthbeer.com/event/trivia-night/
LOCATION:Magnetic South Greenville\, 701 Easley Bridge Rd\, Greenville\, SC\, 29611\, United States
ATTACH;FMTTYPE=image/jpeg:https://magneticsouthbeer.com/wp-content/uploads/2023/05/trivia-mimi-16-9.jpg
END:VEVENT
BEGIN:VEVENT
DTSTART;TZID=America/New_York:20230505T170000
DTEND;TZID=America/New_York:20230505T213000
DTSTAMP:20260425T215934
CREATED:20230410T181005Z
LAST-MODIFIED:20230410T181423Z
UID:1262-1683306000-1683322200@magneticsouthbeer.com
SUMMARY:Cinco de Mayo Anderson Location
DESCRIPTION:Cinco De Mayo is going to be a blast this year!! COME ON DOWN and get in on all the fun in Anderson!! We have Sip & Shop happening from 5-9pm\, and Mojo on Max playing live from 6-9pm.
URL:https://magneticsouthbeer.com/event/cinco-de-mayo/
LOCATION:Magnetic South Anderson\, 516 North Main Street\, Anderson\, SC\, United States
ATTACH;FMTTYPE=image/jpeg:https://magneticsouthbeer.com/wp-content/uploads/2023/04/cinco-de-mayo.jpg
END:VEVENT
BEGIN:VEVENT
DTSTART;TZID=America/New_York:20230504T190000
DTEND;TZID=America/New_York:20230504T210000
DTSTAMP:20260425T215934
CREATED:20230501T222522Z
LAST-MODIFIED:20230501T222522Z
UID:1302-1683226800-1683234000@magneticsouthbeer.com
SUMMARY:May the Fourth Be with You!
DESCRIPTION:May the force be with you! Come join us as our favorite trivia goddess MiMi puts together a killer star wars themed trivia. Registration starts at 7pm first round questions at 7:30.
URL:https://magneticsouthbeer.com/event/may-the-fourth-be-with-you/
LOCATION:Magnetic South Greenville\, 701 Easley Bridge Rd\, Greenville\, SC\, 29611\, United States
ATTACH;FMTTYPE=image/jpeg:https://magneticsouthbeer.com/wp-content/uploads/2023/05/343407820_948778469771737_8871423176647399207_n.jpeg
END:VEVENT
BEGIN:VEVENT
DTSTART;TZID=America/New_York:20230504T190000
DTEND;TZID=America/New_York:20230504T210000
DTSTAMP:20260425T215934
CREATED:20230331T174902Z
LAST-MODIFIED:20230331T174902Z
UID:1227-1683226800-1683234000@magneticsouthbeer.com
SUMMARY:Paint Your Pet-Pop Art Style w/Errant Artistry
DESCRIPTION:Errant Artistry will be at Magnetic South Brewery\, located at: 516 N. Main St. Anderson\, SC 29621; On Thursday. May 4th\, to paint “Paint Your Pet-Pop Art Style”. We will start promptly at 7:00pm and end at 9:00pm. This is a 2-Hour painting class that is led in a step-by-step manner to ensure all levels of artists leave with a masterpiece. All materials are provided for you\, \nWhat you need to do is Register & Pay ONLINE\, then Send a picture of your Pet to Andrea via email: ErrantArtistry@gmail.com\, include your name and date/location of the event you signed up for. \nThen show up and have a great time! Each seat is $40.00 and must be paid in advance by paying online. (You do not need a PayPal Account to pay online\, simply select the “Check out as Guest”\, option). *Beverages\, Food etc. is sold separately from Errant Artistry* *Errant Artistry requires a minimum of 7 participating painters for the event to continue. If there is not enough to hold the class\, the class will be cancelled and the customers will be notified and a refund will be issued.*No refunds or credit to another class will be issued for personal cancelations\, if Errant Artistry has not been notified at least 48 hours prior to date of class\, no exceptions. \n* *If you have any questions\, please contact Andrea directly at 864-504-9957.
URL:https://magneticsouthbeer.com/event/paint-your-pet-pop-art-style-w-errant-artistry/
LOCATION:Magnetic South Anderson\, 516 North Main Street\, Anderson\, SC\, United States
ATTACH;FMTTYPE=image/jpeg:https://magneticsouthbeer.com/wp-content/uploads/2023/03/335520077_1348140969314834_1244887890319056645_n.jpeg
END:VEVENT
BEGIN:VEVENT
DTSTART;TZID=America/New_York:20230428T180000
DTEND;TZID=America/New_York:20230429T213000
DTSTAMP:20260425T215934
CREATED:20230410T173438Z
LAST-MODIFIED:20230410T173438Z
UID:1258-1682704800-1682803800@magneticsouthbeer.com
SUMMARY:Anderson Soirée 2023
DESCRIPTION:Friday 6pm-9:30pm: Soul Legit \nSaturday Line Up:\n12pm – 2pm: Kristian Echols\n2:30pm -4:30pm: Sundogs\n5pm – 7pm:  Marvin King Revue\n7:30pm – 9:30pm: Amongst The Trees
URL:https://magneticsouthbeer.com/event/anderson-soiree-2023/
LOCATION:Magnetic South Anderson\, 516 North Main Street\, Anderson\, SC\, United States
ATTACH;FMTTYPE=image/jpeg:https://magneticsouthbeer.com/wp-content/uploads/2023/04/Anderson-Soirree-2023.jpg
END:VEVENT
BEGIN:VEVENT
DTSTART;TZID=America/New_York:20230428T180000
DTEND;TZID=America/New_York:20230428T213000
DTSTAMP:20260425T215934
CREATED:20230410T171941Z
LAST-MODIFIED:20230410T171941Z
UID:1256-1682704800-1682717400@magneticsouthbeer.com
SUMMARY:Soul legit
DESCRIPTION:
URL:https://magneticsouthbeer.com/event/soul-legit/
LOCATION:Magnetic South Anderson\, 516 North Main Street\, Anderson\, SC\, United States
ATTACH;FMTTYPE=image/jpeg:https://magneticsouthbeer.com/wp-content/uploads/2023/04/live-music-event-graphic.jpg
END:VEVENT
END:VCALENDAR