BEGIN:VCALENDAR
VERSION:2.0
PRODID:-//Magnetic South Brewery - ECPv6.15.18//NONSGML v1.0//EN
CALSCALE:GREGORIAN
METHOD:PUBLISH
X-ORIGINAL-URL:https://magneticsouthbeer.com
X-WR-CALDESC:Events for Magnetic South Brewery
REFRESH-INTERVAL;VALUE=DURATION:PT1H
X-Robots-Tag:noindex
X-PUBLISHED-TTL:PT1H
BEGIN:VTIMEZONE
TZID:America/New_York
BEGIN:DAYLIGHT
TZOFFSETFROM:-0500
TZOFFSETTO:-0400
TZNAME:EDT
DTSTART:20220313T070000
END:DAYLIGHT
BEGIN:STANDARD
TZOFFSETFROM:-0400
TZOFFSETTO:-0500
TZNAME:EST
DTSTART:20221106T060000
END:STANDARD
BEGIN:DAYLIGHT
TZOFFSETFROM:-0500
TZOFFSETTO:-0400
TZNAME:EDT
DTSTART:20230312T070000
END:DAYLIGHT
BEGIN:STANDARD
TZOFFSETFROM:-0400
TZOFFSETTO:-0500
TZNAME:EST
DTSTART:20231105T060000
END:STANDARD
BEGIN:DAYLIGHT
TZOFFSETFROM:-0500
TZOFFSETTO:-0400
TZNAME:EDT
DTSTART:20240310T070000
END:DAYLIGHT
BEGIN:STANDARD
TZOFFSETFROM:-0400
TZOFFSETTO:-0500
TZNAME:EST
DTSTART:20241103T060000
END:STANDARD
BEGIN:DAYLIGHT
TZOFFSETFROM:-0500
TZOFFSETTO:-0400
TZNAME:EDT
DTSTART:20250309T070000
END:DAYLIGHT
BEGIN:STANDARD
TZOFFSETFROM:-0400
TZOFFSETTO:-0500
TZNAME:EST
DTSTART:20251102T060000
END:STANDARD
END:VTIMEZONE
BEGIN:VEVENT
DTSTART;TZID=America/New_York:20231201T180000
DTEND;TZID=America/New_York:20231201T220000
DTSTAMP:20260425T115001
CREATED:20240107T172158Z
LAST-MODIFIED:20240311T153944Z
UID:1867-1701453600-1701468000@magneticsouthbeer.com
SUMMARY:Anderson Live Music Line-Up
DESCRIPTION:Come on out and enjoy live music every Friday starting at 6pm until 9pm!
URL:https://magneticsouthbeer.com/event/anderson-live-music-line-up/
LOCATION:Magnetic South Anderson\, 516 North Main Street\, Anderson\, SC\, United States
CATEGORIES:Live Music
ATTACH;FMTTYPE=image/png:https://magneticsouthbeer.com/wp-content/uploads/2024/01/Anderson-Live-Music-Lineup.png
END:VEVENT
BEGIN:VEVENT
DTSTART;TZID=America/New_York:20240205T190000
DTEND;TZID=America/New_York:20240205T220000
DTSTAMP:20260425T115001
CREATED:20230911T144954Z
LAST-MODIFIED:20240312T174224Z
UID:1697-1707159600-1707170400@magneticsouthbeer.com
SUMMARY:Mario Kart - GVL
DESCRIPTION:Every Monday from 7-9pm\, join us for Mario Kart! \nGrab your friends and a drink to challenge them to a couple of races! So rev your engines for a ride down to Magnetic South. Get ready\, get set\, GO!
URL:https://magneticsouthbeer.com/event/mario-kart-mondays/
LOCATION:Magnetic South Greenville\, 701 Easley Bridge Rd\, Greenville\, SC\, 29611\, United States
CATEGORIES:Game Nights
ATTACH;FMTTYPE=image/png:https://magneticsouthbeer.com/wp-content/uploads/2023/09/Greenville.png
END:VEVENT
BEGIN:VEVENT
DTSTART;TZID=America/New_York:20231213T160000
DTEND;TZID=America/New_York:20231213T190000
DTSTAMP:20260425T115001
CREATED:20231208T225957Z
LAST-MODIFIED:20240312T174303Z
UID:1823-1702483200-1702494000@magneticsouthbeer.com
SUMMARY:Happy Hour - GVL
DESCRIPTION:Come on out and enjoy a craft beer during Happy Hour! Every Wednesday 4pm – 7pm at our Judson Mill location in Greenville. All full size draft pours are $5
URL:https://magneticsouthbeer.com/event/happy-hour/
LOCATION:Magnetic South Greenville\, 701 Easley Bridge Rd\, Greenville\, SC\, 29611\, United States
ATTACH;FMTTYPE=image/png:https://magneticsouthbeer.com/wp-content/uploads/2023/12/Resident-Happy-Hour-Flyer.png
END:VEVENT
BEGIN:VEVENT
DTSTART;TZID=America/New_York:20231213T183000
DTEND;TZID=America/New_York:20231213T210000
DTSTAMP:20260425T115001
CREATED:20231208T235835Z
LAST-MODIFIED:20240311T154434Z
UID:1836-1702492200-1702501200@magneticsouthbeer.com
SUMMARY:Trivia Night in Anderson
DESCRIPTION:Come on down to our Anderson location and put your knowledge to the test! Top 3 teams are awarded prizes! We offer Happy hour discounts to all trivia participants; $1 off full size draft pours!
URL:https://magneticsouthbeer.com/event/trivia-night-in-anderson/
LOCATION:Magnetic South Anderson\, 516 North Main Street\, Anderson\, SC\, United States
CATEGORIES:Game Nights
ATTACH;FMTTYPE=image/png:https://magneticsouthbeer.com/wp-content/uploads/2023/12/Anderson.png
END:VEVENT
BEGIN:VEVENT
DTSTART;TZID=America/New_York:20240201T190000
DTEND;TZID=America/New_York:20240201T220000
DTSTAMP:20260425T115001
CREATED:20240311T212851Z
LAST-MODIFIED:20250428T130441Z
UID:1946-1706814000-1706824800@magneticsouthbeer.com
SUMMARY:Mario Kart - Anderson
DESCRIPTION:
URL:https://magneticsouthbeer.com/event/mario-kart-anderson/
LOCATION:Magnetic South Anderson\, 516 North Main Street\, Anderson\, SC\, United States
CATEGORIES:Game Nights
ATTACH;FMTTYPE=image/png:https://magneticsouthbeer.com/wp-content/uploads/2024/03/Anderson.png
END:VEVENT
BEGIN:VEVENT
DTSTART;TZID=America/New_York:20231201T180000
DTEND;TZID=America/New_York:20231201T220000
DTSTAMP:20260425T115001
CREATED:20240107T172158Z
LAST-MODIFIED:20240311T153944Z
UID:1867-1701453600-1701468000@magneticsouthbeer.com
SUMMARY:Anderson Live Music Line-Up
DESCRIPTION:Come on out and enjoy live music every Friday starting at 6pm until 9pm!
URL:https://magneticsouthbeer.com/event/anderson-live-music-line-up/
LOCATION:Magnetic South Anderson\, 516 North Main Street\, Anderson\, SC\, United States
CATEGORIES:Live Music
ATTACH;FMTTYPE=image/png:https://magneticsouthbeer.com/wp-content/uploads/2024/01/Anderson-Live-Music-Lineup.png
END:VEVENT
BEGIN:VEVENT
DTSTART;TZID=America/New_York:20240205T190000
DTEND;TZID=America/New_York:20240205T220000
DTSTAMP:20260425T115001
CREATED:20230911T144954Z
LAST-MODIFIED:20240312T174224Z
UID:1697-1707159600-1707170400@magneticsouthbeer.com
SUMMARY:Mario Kart - GVL
DESCRIPTION:Every Monday from 7-9pm\, join us for Mario Kart! \nGrab your friends and a drink to challenge them to a couple of races! So rev your engines for a ride down to Magnetic South. Get ready\, get set\, GO!
URL:https://magneticsouthbeer.com/event/mario-kart-mondays/
LOCATION:Magnetic South Greenville\, 701 Easley Bridge Rd\, Greenville\, SC\, 29611\, United States
CATEGORIES:Game Nights
ATTACH;FMTTYPE=image/png:https://magneticsouthbeer.com/wp-content/uploads/2023/09/Greenville.png
END:VEVENT
BEGIN:VEVENT
DTSTART;TZID=America/New_York:20231213T160000
DTEND;TZID=America/New_York:20231213T190000
DTSTAMP:20260425T115001
CREATED:20231208T225957Z
LAST-MODIFIED:20240312T174303Z
UID:1823-1702483200-1702494000@magneticsouthbeer.com
SUMMARY:Happy Hour - GVL
DESCRIPTION:Come on out and enjoy a craft beer during Happy Hour! Every Wednesday 4pm – 7pm at our Judson Mill location in Greenville. All full size draft pours are $5
URL:https://magneticsouthbeer.com/event/happy-hour/
LOCATION:Magnetic South Greenville\, 701 Easley Bridge Rd\, Greenville\, SC\, 29611\, United States
ATTACH;FMTTYPE=image/png:https://magneticsouthbeer.com/wp-content/uploads/2023/12/Resident-Happy-Hour-Flyer.png
END:VEVENT
BEGIN:VEVENT
DTSTART;TZID=America/New_York:20231213T183000
DTEND;TZID=America/New_York:20231213T210000
DTSTAMP:20260425T115001
CREATED:20231208T235835Z
LAST-MODIFIED:20240311T154434Z
UID:1836-1702492200-1702501200@magneticsouthbeer.com
SUMMARY:Trivia Night in Anderson
DESCRIPTION:Come on down to our Anderson location and put your knowledge to the test! Top 3 teams are awarded prizes! We offer Happy hour discounts to all trivia participants; $1 off full size draft pours!
URL:https://magneticsouthbeer.com/event/trivia-night-in-anderson/
LOCATION:Magnetic South Anderson\, 516 North Main Street\, Anderson\, SC\, United States
CATEGORIES:Game Nights
ATTACH;FMTTYPE=image/png:https://magneticsouthbeer.com/wp-content/uploads/2023/12/Anderson.png
END:VEVENT
BEGIN:VEVENT
DTSTART;TZID=America/New_York:20240201T190000
DTEND;TZID=America/New_York:20240201T220000
DTSTAMP:20260425T115001
CREATED:20240311T212851Z
LAST-MODIFIED:20250428T130441Z
UID:1946-1706814000-1706824800@magneticsouthbeer.com
SUMMARY:Mario Kart - Anderson
DESCRIPTION:
URL:https://magneticsouthbeer.com/event/mario-kart-anderson/
LOCATION:Magnetic South Anderson\, 516 North Main Street\, Anderson\, SC\, United States
CATEGORIES:Game Nights
ATTACH;FMTTYPE=image/png:https://magneticsouthbeer.com/wp-content/uploads/2024/03/Anderson.png
END:VEVENT
BEGIN:VEVENT
DTSTART;TZID=America/New_York:20231201T180000
DTEND;TZID=America/New_York:20231201T220000
DTSTAMP:20260425T115001
CREATED:20240107T172158Z
LAST-MODIFIED:20240311T153944Z
UID:1867-1701453600-1701468000@magneticsouthbeer.com
SUMMARY:Anderson Live Music Line-Up
DESCRIPTION:Come on out and enjoy live music every Friday starting at 6pm until 9pm!
URL:https://magneticsouthbeer.com/event/anderson-live-music-line-up/
LOCATION:Magnetic South Anderson\, 516 North Main Street\, Anderson\, SC\, United States
CATEGORIES:Live Music
ATTACH;FMTTYPE=image/png:https://magneticsouthbeer.com/wp-content/uploads/2024/01/Anderson-Live-Music-Lineup.png
END:VEVENT
BEGIN:VEVENT
DTSTART;TZID=America/New_York:20240406T110000
DTEND;TZID=America/New_York:20240406T230000
DTSTAMP:20260425T115001
CREATED:20240311T215244Z
LAST-MODIFIED:20240312T154557Z
UID:1950-1712401200-1712444400@magneticsouthbeer.com
SUMMARY:Greenville: 1 Year Anniversary Party
DESCRIPTION:YOU’RE INVITED! Magnetic South Greenville is turning 1 year old! We’re hosting a birthday bash on April 6th\, 2024! We’ll be partying from open to close! We’ll have Tennis Legend providing the tunes\, games\, raffles and more!
URL:https://magneticsouthbeer.com/event/greenville-1-year-anniversary-party/
LOCATION:Magnetic South Greenville\, 701 Easley Bridge Rd\, Greenville\, SC\, 29611\, United States
CATEGORIES:Special Events
ATTACH;FMTTYPE=image/png:https://magneticsouthbeer.com/wp-content/uploads/2024/03/One-year-birthday-bash.png
END:VEVENT
BEGIN:VEVENT
DTSTART;TZID=America/New_York:20240407T160000
DTEND;TZID=America/New_York:20240407T183000
DTSTAMP:20260425T115001
CREATED:20240319T182908Z
LAST-MODIFIED:20240319T182908Z
UID:1991-1712505600-1712514600@magneticsouthbeer.com
SUMMARY:Pro Wrestling TURBO: Spring Breakout @ Magnetic South GVL
DESCRIPTION:2.5 hours of the most thrilling action in the Upstate\, plus WrestleMania XL viewing party.
URL:https://magneticsouthbeer.com/event/pro-wrestling-turbo-spring-breakout-magnetic-south-gvl/
LOCATION:Magnetic South Greenville\, 701 Easley Bridge Rd\, Greenville\, SC\, 29611\, United States
ATTACH;FMTTYPE=image/jpeg:https://magneticsouthbeer.com/wp-content/uploads/2024/03/432499982_743542001252990_6548972264837536487_n.jpg
ORGANIZER;CN="Pro Wrestling TURBO":MAILTO:prowrestlingturbo@gmail.com
END:VEVENT
BEGIN:VEVENT
DTSTART;TZID=America/New_York:20240205T190000
DTEND;TZID=America/New_York:20240205T220000
DTSTAMP:20260425T115001
CREATED:20230911T144954Z
LAST-MODIFIED:20240312T174224Z
UID:1697-1707159600-1707170400@magneticsouthbeer.com
SUMMARY:Mario Kart - GVL
DESCRIPTION:Every Monday from 7-9pm\, join us for Mario Kart! \nGrab your friends and a drink to challenge them to a couple of races! So rev your engines for a ride down to Magnetic South. Get ready\, get set\, GO!
URL:https://magneticsouthbeer.com/event/mario-kart-mondays/
LOCATION:Magnetic South Greenville\, 701 Easley Bridge Rd\, Greenville\, SC\, 29611\, United States
CATEGORIES:Game Nights
ATTACH;FMTTYPE=image/png:https://magneticsouthbeer.com/wp-content/uploads/2023/09/Greenville.png
END:VEVENT
BEGIN:VEVENT
DTSTART;TZID=America/New_York:20231213T160000
DTEND;TZID=America/New_York:20231213T190000
DTSTAMP:20260425T115001
CREATED:20231208T225957Z
LAST-MODIFIED:20240312T174303Z
UID:1823-1702483200-1702494000@magneticsouthbeer.com
SUMMARY:Happy Hour - GVL
DESCRIPTION:Come on out and enjoy a craft beer during Happy Hour! Every Wednesday 4pm – 7pm at our Judson Mill location in Greenville. All full size draft pours are $5
URL:https://magneticsouthbeer.com/event/happy-hour/
LOCATION:Magnetic South Greenville\, 701 Easley Bridge Rd\, Greenville\, SC\, 29611\, United States
ATTACH;FMTTYPE=image/png:https://magneticsouthbeer.com/wp-content/uploads/2023/12/Resident-Happy-Hour-Flyer.png
END:VEVENT
BEGIN:VEVENT
DTSTART;TZID=America/New_York:20231213T183000
DTEND;TZID=America/New_York:20231213T210000
DTSTAMP:20260425T115001
CREATED:20231208T235835Z
LAST-MODIFIED:20240311T154434Z
UID:1836-1702492200-1702501200@magneticsouthbeer.com
SUMMARY:Trivia Night in Anderson
DESCRIPTION:Come on down to our Anderson location and put your knowledge to the test! Top 3 teams are awarded prizes! We offer Happy hour discounts to all trivia participants; $1 off full size draft pours!
URL:https://magneticsouthbeer.com/event/trivia-night-in-anderson/
LOCATION:Magnetic South Anderson\, 516 North Main Street\, Anderson\, SC\, United States
CATEGORIES:Game Nights
ATTACH;FMTTYPE=image/png:https://magneticsouthbeer.com/wp-content/uploads/2023/12/Anderson.png
END:VEVENT
BEGIN:VEVENT
DTSTART;TZID=America/New_York:20240201T190000
DTEND;TZID=America/New_York:20240201T220000
DTSTAMP:20260425T115001
CREATED:20240311T212851Z
LAST-MODIFIED:20250428T130441Z
UID:1946-1706814000-1706824800@magneticsouthbeer.com
SUMMARY:Mario Kart - Anderson
DESCRIPTION:
URL:https://magneticsouthbeer.com/event/mario-kart-anderson/
LOCATION:Magnetic South Anderson\, 516 North Main Street\, Anderson\, SC\, United States
CATEGORIES:Game Nights
ATTACH;FMTTYPE=image/png:https://magneticsouthbeer.com/wp-content/uploads/2024/03/Anderson.png
END:VEVENT
BEGIN:VEVENT
DTSTART;TZID=America/New_York:20231201T180000
DTEND;TZID=America/New_York:20231201T220000
DTSTAMP:20260425T115001
CREATED:20240107T172158Z
LAST-MODIFIED:20240311T153944Z
UID:1867-1701453600-1701468000@magneticsouthbeer.com
SUMMARY:Anderson Live Music Line-Up
DESCRIPTION:Come on out and enjoy live music every Friday starting at 6pm until 9pm!
URL:https://magneticsouthbeer.com/event/anderson-live-music-line-up/
LOCATION:Magnetic South Anderson\, 516 North Main Street\, Anderson\, SC\, United States
CATEGORIES:Live Music
ATTACH;FMTTYPE=image/png:https://magneticsouthbeer.com/wp-content/uploads/2024/01/Anderson-Live-Music-Lineup.png
END:VEVENT
BEGIN:VEVENT
DTSTART;TZID=America/New_York:20240205T190000
DTEND;TZID=America/New_York:20240205T220000
DTSTAMP:20260425T115001
CREATED:20230911T144954Z
LAST-MODIFIED:20240312T174224Z
UID:1697-1707159600-1707170400@magneticsouthbeer.com
SUMMARY:Mario Kart - GVL
DESCRIPTION:Every Monday from 7-9pm\, join us for Mario Kart! \nGrab your friends and a drink to challenge them to a couple of races! So rev your engines for a ride down to Magnetic South. Get ready\, get set\, GO!
URL:https://magneticsouthbeer.com/event/mario-kart-mondays/
LOCATION:Magnetic South Greenville\, 701 Easley Bridge Rd\, Greenville\, SC\, 29611\, United States
CATEGORIES:Game Nights
ATTACH;FMTTYPE=image/png:https://magneticsouthbeer.com/wp-content/uploads/2023/09/Greenville.png
END:VEVENT
BEGIN:VEVENT
DTSTART;TZID=America/New_York:20231213T160000
DTEND;TZID=America/New_York:20231213T190000
DTSTAMP:20260425T115001
CREATED:20231208T225957Z
LAST-MODIFIED:20240312T174303Z
UID:1823-1702483200-1702494000@magneticsouthbeer.com
SUMMARY:Happy Hour - GVL
DESCRIPTION:Come on out and enjoy a craft beer during Happy Hour! Every Wednesday 4pm – 7pm at our Judson Mill location in Greenville. All full size draft pours are $5
URL:https://magneticsouthbeer.com/event/happy-hour/
LOCATION:Magnetic South Greenville\, 701 Easley Bridge Rd\, Greenville\, SC\, 29611\, United States
ATTACH;FMTTYPE=image/png:https://magneticsouthbeer.com/wp-content/uploads/2023/12/Resident-Happy-Hour-Flyer.png
END:VEVENT
BEGIN:VEVENT
DTSTART;TZID=America/New_York:20231213T183000
DTEND;TZID=America/New_York:20231213T210000
DTSTAMP:20260425T115001
CREATED:20231208T235835Z
LAST-MODIFIED:20240311T154434Z
UID:1836-1702492200-1702501200@magneticsouthbeer.com
SUMMARY:Trivia Night in Anderson
DESCRIPTION:Come on down to our Anderson location and put your knowledge to the test! Top 3 teams are awarded prizes! We offer Happy hour discounts to all trivia participants; $1 off full size draft pours!
URL:https://magneticsouthbeer.com/event/trivia-night-in-anderson/
LOCATION:Magnetic South Anderson\, 516 North Main Street\, Anderson\, SC\, United States
CATEGORIES:Game Nights
ATTACH;FMTTYPE=image/png:https://magneticsouthbeer.com/wp-content/uploads/2023/12/Anderson.png
END:VEVENT
BEGIN:VEVENT
DTSTART;TZID=America/New_York:20240201T190000
DTEND;TZID=America/New_York:20240201T220000
DTSTAMP:20260425T115001
CREATED:20240311T212851Z
LAST-MODIFIED:20250428T130441Z
UID:1946-1706814000-1706824800@magneticsouthbeer.com
SUMMARY:Mario Kart - Anderson
DESCRIPTION:
URL:https://magneticsouthbeer.com/event/mario-kart-anderson/
LOCATION:Magnetic South Anderson\, 516 North Main Street\, Anderson\, SC\, United States
CATEGORIES:Game Nights
ATTACH;FMTTYPE=image/png:https://magneticsouthbeer.com/wp-content/uploads/2024/03/Anderson.png
END:VEVENT
BEGIN:VEVENT
DTSTART;TZID=America/New_York:20231201T180000
DTEND;TZID=America/New_York:20231201T220000
DTSTAMP:20260425T115001
CREATED:20240107T172158Z
LAST-MODIFIED:20240311T153944Z
UID:1867-1701453600-1701468000@magneticsouthbeer.com
SUMMARY:Anderson Live Music Line-Up
DESCRIPTION:Come on out and enjoy live music every Friday starting at 6pm until 9pm!
URL:https://magneticsouthbeer.com/event/anderson-live-music-line-up/
LOCATION:Magnetic South Anderson\, 516 North Main Street\, Anderson\, SC\, United States
CATEGORIES:Live Music
ATTACH;FMTTYPE=image/png:https://magneticsouthbeer.com/wp-content/uploads/2024/01/Anderson-Live-Music-Lineup.png
END:VEVENT
BEGIN:VEVENT
DTSTART;TZID=America/New_York:20240205T190000
DTEND;TZID=America/New_York:20240205T220000
DTSTAMP:20260425T115001
CREATED:20230911T144954Z
LAST-MODIFIED:20240312T174224Z
UID:1697-1707159600-1707170400@magneticsouthbeer.com
SUMMARY:Mario Kart - GVL
DESCRIPTION:Every Monday from 7-9pm\, join us for Mario Kart! \nGrab your friends and a drink to challenge them to a couple of races! So rev your engines for a ride down to Magnetic South. Get ready\, get set\, GO!
URL:https://magneticsouthbeer.com/event/mario-kart-mondays/
LOCATION:Magnetic South Greenville\, 701 Easley Bridge Rd\, Greenville\, SC\, 29611\, United States
CATEGORIES:Game Nights
ATTACH;FMTTYPE=image/png:https://magneticsouthbeer.com/wp-content/uploads/2023/09/Greenville.png
END:VEVENT
BEGIN:VEVENT
DTSTART;TZID=America/New_York:20231213T160000
DTEND;TZID=America/New_York:20231213T190000
DTSTAMP:20260425T115001
CREATED:20231208T225957Z
LAST-MODIFIED:20240312T174303Z
UID:1823-1702483200-1702494000@magneticsouthbeer.com
SUMMARY:Happy Hour - GVL
DESCRIPTION:Come on out and enjoy a craft beer during Happy Hour! Every Wednesday 4pm – 7pm at our Judson Mill location in Greenville. All full size draft pours are $5
URL:https://magneticsouthbeer.com/event/happy-hour/
LOCATION:Magnetic South Greenville\, 701 Easley Bridge Rd\, Greenville\, SC\, 29611\, United States
ATTACH;FMTTYPE=image/png:https://magneticsouthbeer.com/wp-content/uploads/2023/12/Resident-Happy-Hour-Flyer.png
END:VEVENT
BEGIN:VEVENT
DTSTART;TZID=America/New_York:20231213T183000
DTEND;TZID=America/New_York:20231213T210000
DTSTAMP:20260425T115001
CREATED:20231208T235835Z
LAST-MODIFIED:20240311T154434Z
UID:1836-1702492200-1702501200@magneticsouthbeer.com
SUMMARY:Trivia Night in Anderson
DESCRIPTION:Come on down to our Anderson location and put your knowledge to the test! Top 3 teams are awarded prizes! We offer Happy hour discounts to all trivia participants; $1 off full size draft pours!
URL:https://magneticsouthbeer.com/event/trivia-night-in-anderson/
LOCATION:Magnetic South Anderson\, 516 North Main Street\, Anderson\, SC\, United States
CATEGORIES:Game Nights
ATTACH;FMTTYPE=image/png:https://magneticsouthbeer.com/wp-content/uploads/2023/12/Anderson.png
END:VEVENT
BEGIN:VEVENT
DTSTART;TZID=America/New_York:20240201T190000
DTEND;TZID=America/New_York:20240201T220000
DTSTAMP:20260425T115001
CREATED:20240311T212851Z
LAST-MODIFIED:20250428T130441Z
UID:1946-1706814000-1706824800@magneticsouthbeer.com
SUMMARY:Mario Kart - Anderson
DESCRIPTION:
URL:https://magneticsouthbeer.com/event/mario-kart-anderson/
LOCATION:Magnetic South Anderson\, 516 North Main Street\, Anderson\, SC\, United States
CATEGORIES:Game Nights
ATTACH;FMTTYPE=image/png:https://magneticsouthbeer.com/wp-content/uploads/2024/03/Anderson.png
END:VEVENT
BEGIN:VEVENT
DTSTART;TZID=America/New_York:20231201T180000
DTEND;TZID=America/New_York:20231201T220000
DTSTAMP:20260425T115001
CREATED:20240107T172158Z
LAST-MODIFIED:20240311T153944Z
UID:1867-1701453600-1701468000@magneticsouthbeer.com
SUMMARY:Anderson Live Music Line-Up
DESCRIPTION:Come on out and enjoy live music every Friday starting at 6pm until 9pm!
URL:https://magneticsouthbeer.com/event/anderson-live-music-line-up/
LOCATION:Magnetic South Anderson\, 516 North Main Street\, Anderson\, SC\, United States
CATEGORIES:Live Music
ATTACH;FMTTYPE=image/png:https://magneticsouthbeer.com/wp-content/uploads/2024/01/Anderson-Live-Music-Lineup.png
END:VEVENT
BEGIN:VEVENT
DTSTART;TZID=America/New_York:20240427T183000
DTEND;TZID=America/New_York:20240427T223000
DTSTAMP:20260425T115001
CREATED:20240319T185853Z
LAST-MODIFIED:20240319T185853Z
UID:1995-1714242600-1714257000@magneticsouthbeer.com
SUMMARY:First Azucar show at Magnetic South Brewery in Greenville\, SC
DESCRIPTION:First azucar show at Magnetic South Brewery on Saturday\, April 27th!! \nTickets available only at the door: $12 \nGreenville welcomes @shogun_hc for the first time and @melee_hc again from Knoxville! Local support by @realmofnone @laidout.hc @suchcruelty !!!
URL:https://magneticsouthbeer.com/event/first-azucar-show-at-magnetic-south-brewery-in-greenville-sc/
LOCATION:Magnetic South Greenville\, 701 Easley Bridge Rd\, Greenville\, SC\, 29611\, United States
CATEGORIES:Live Music,Special Events
ATTACH;FMTTYPE=image/png:https://magneticsouthbeer.com/wp-content/uploads/2024/03/Screenshot-2024-03-19-2.51.50-PM.png
END:VEVENT
BEGIN:VEVENT
DTSTART;TZID=America/New_York:20240205T190000
DTEND;TZID=America/New_York:20240205T220000
DTSTAMP:20260425T115001
CREATED:20230911T144954Z
LAST-MODIFIED:20240312T174224Z
UID:1697-1707159600-1707170400@magneticsouthbeer.com
SUMMARY:Mario Kart - GVL
DESCRIPTION:Every Monday from 7-9pm\, join us for Mario Kart! \nGrab your friends and a drink to challenge them to a couple of races! So rev your engines for a ride down to Magnetic South. Get ready\, get set\, GO!
URL:https://magneticsouthbeer.com/event/mario-kart-mondays/
LOCATION:Magnetic South Greenville\, 701 Easley Bridge Rd\, Greenville\, SC\, 29611\, United States
CATEGORIES:Game Nights
ATTACH;FMTTYPE=image/png:https://magneticsouthbeer.com/wp-content/uploads/2023/09/Greenville.png
END:VEVENT
END:VCALENDAR