BEGIN:VCALENDAR
VERSION:2.0
PRODID:-//Magnetic South Brewery - ECPv6.15.18//NONSGML v1.0//EN
CALSCALE:GREGORIAN
METHOD:PUBLISH
X-WR-CALNAME:Magnetic South Brewery
X-ORIGINAL-URL:https://magneticsouthbeer.com
X-WR-CALDESC:Events for Magnetic South Brewery
REFRESH-INTERVAL;VALUE=DURATION:PT1H
X-Robots-Tag:noindex
X-PUBLISHED-TTL:PT1H
BEGIN:VTIMEZONE
TZID:America/New_York
BEGIN:DAYLIGHT
TZOFFSETFROM:-0500
TZOFFSETTO:-0400
TZNAME:EDT
DTSTART:20220313T070000
END:DAYLIGHT
BEGIN:STANDARD
TZOFFSETFROM:-0400
TZOFFSETTO:-0500
TZNAME:EST
DTSTART:20221106T060000
END:STANDARD
BEGIN:DAYLIGHT
TZOFFSETFROM:-0500
TZOFFSETTO:-0400
TZNAME:EDT
DTSTART:20230312T070000
END:DAYLIGHT
BEGIN:STANDARD
TZOFFSETFROM:-0400
TZOFFSETTO:-0500
TZNAME:EST
DTSTART:20231105T060000
END:STANDARD
BEGIN:DAYLIGHT
TZOFFSETFROM:-0500
TZOFFSETTO:-0400
TZNAME:EDT
DTSTART:20240310T070000
END:DAYLIGHT
BEGIN:STANDARD
TZOFFSETFROM:-0400
TZOFFSETTO:-0500
TZNAME:EST
DTSTART:20241103T060000
END:STANDARD
END:VTIMEZONE
BEGIN:VEVENT
DTSTART;TZID=America/New_York:20230703T190000
DTEND;TZID=America/New_York:20230703T210000
DTSTAMP:20260425T195812
CREATED:20230620T140627Z
LAST-MODIFIED:20230620T140627Z
UID:1474-1688410800-1688418000@magneticsouthbeer.com
SUMMARY:MarioKart Monday
DESCRIPTION:Grab your friends and a drink to challenge them to a couple of races! So rev your engines for a ride down to Magnetic South. Get ready\, get set\, GO!
URL:https://magneticsouthbeer.com/event/mariokart-monday/
LOCATION:Magnetic South Greenville\, 701 Easley Bridge Rd\, Greenville\, SC\, 29611\, United States
ATTACH;FMTTYPE=image/jpeg:https://magneticsouthbeer.com/wp-content/uploads/2023/06/MarioKart-Monday-web.jpg
END:VEVENT
BEGIN:VEVENT
DTSTART;TZID=America/New_York:20230705T183000
DTEND;TZID=America/New_York:20230705T210000
DTSTAMP:20260425T195812
CREATED:20230620T141342Z
LAST-MODIFIED:20230620T141342Z
UID:1489-1688581800-1688590800@magneticsouthbeer.com
SUMMARY:Trivia Night
DESCRIPTION:We are launching weekly trivia at our Greenville location. Every Wednesday MiMi will be hosting trivia. Follow our page for updated info on what genre the trivia will be. Signup starts at 6\, first round at 6:30. Prizes for 1st\, 2nd and 3rd.
URL:https://magneticsouthbeer.com/event/trivia-night-7/
LOCATION:Magnetic South Greenville\, 701 Easley Bridge Rd\, Greenville\, SC\, 29611\, United States
ATTACH;FMTTYPE=image/jpeg:https://magneticsouthbeer.com/wp-content/uploads/2023/05/trivia-mimi-16-9.jpg
END:VEVENT
BEGIN:VEVENT
DTSTART;TZID=America/New_York:20230709T180000
DTEND;TZID=America/New_York:20230709T210000
DTSTAMP:20260425T195812
CREATED:20230620T143214Z
LAST-MODIFIED:20230620T143214Z
UID:1504-1688925600-1688936400@magneticsouthbeer.com
SUMMARY:Settlers of Catan Game Night
DESCRIPTION:
URL:https://magneticsouthbeer.com/event/settlers-of-catan-game-night/
LOCATION:Magnetic South Greenville\, 701 Easley Bridge Rd\, Greenville\, SC\, 29611\, United States
ATTACH;FMTTYPE=image/jpeg:https://magneticsouthbeer.com/wp-content/uploads/2023/06/catan-game-night-web.jpg
END:VEVENT
BEGIN:VEVENT
DTSTART;TZID=America/New_York:20230714T180000
DTEND;TZID=America/New_York:20230714T200000
DTSTAMP:20260425T195812
CREATED:20230620T143828Z
LAST-MODIFIED:20230620T143828Z
UID:1510-1689357600-1689364800@magneticsouthbeer.com
SUMMARY:Junkyard Gym Table
DESCRIPTION:
URL:https://magneticsouthbeer.com/event/junkyard-gym-table/
LOCATION:Magnetic South Anderson\, 516 North Main Street\, Anderson\, SC\, United States
ATTACH;FMTTYPE=image/jpeg:https://magneticsouthbeer.com/wp-content/uploads/2023/05/magnetic-south-marquee-16-9.jpg
END:VEVENT
BEGIN:VEVENT
DTSTART;TZID=America/New_York:20230721T180000
DTEND;TZID=America/New_York:20230721T213000
DTSTAMP:20260425T195812
CREATED:20230620T143912Z
LAST-MODIFIED:20230620T143912Z
UID:1512-1689962400-1689975000@magneticsouthbeer.com
SUMMARY:Amongst the Trees Live Music
DESCRIPTION:
URL:https://magneticsouthbeer.com/event/amongst-the-trees-live-music-2/
LOCATION:Magnetic South Anderson\, 516 North Main Street\, Anderson\, SC\, United States
ATTACH;FMTTYPE=image/jpeg:https://magneticsouthbeer.com/wp-content/uploads/2023/04/live-music-event-graphic.jpg
END:VEVENT
END:VCALENDAR